BEGIN:VCALENDAR
VERSION:2.0
PRODID:-//spbstu.ru//ical//RU
NAME:Расписание группы 3753801/20101
X-WR-CALNAME:Расписание группы 3753801/20101
TIMEZONE-ID:Europe/Moscow
X-WR-TIMEZONE:Europe/Moscow
BEGIN:VEVENT
UID:nwrh@192.168.245.71:3006
SEQUENCE:0
DTSTAMP:20260421T094107Z
DTSTART:20260406T070000Z
DTEND:20260406T084000Z
SUMMARY:Обеспечение экономико-правовой защиты собственности и предпринимат
 ельской деятельности
LOCATION:50 уч.к 1432
END:VEVENT
BEGIN:VEVENT
UID:k4wa@192.168.245.71:3006
SEQUENCE:0
DTSTAMP:20260421T094107Z
DTSTART:20260406T090000Z
DTEND:20260406T104000Z
SUMMARY:Обеспечение экономико-правовой защиты собственности и предпринимат
 ельской деятельности
LOCATION:50 уч.к 1425
END:VEVENT
BEGIN:VEVENT
UID:r309@192.168.245.71:3006
SEQUENCE:0
DTSTAMP:20260421T094107Z
DTSTART:20260406T110000Z
DTEND:20260406T124000Z
SUMMARY:Автоматизация бизнес-процессов
LOCATION:50 уч.к 1103
END:VEVENT
BEGIN:VEVENT
UID:ac6m@192.168.245.71:3006
SEQUENCE:0
DTSTAMP:20260421T094107Z
DTSTART:20260406T130000Z
DTEND:20260406T144000Z
SUMMARY:Экономический анализ
LOCATION:50 уч.к 1103
END:VEVENT
BEGIN:VEVENT
UID:oadv@192.168.245.71:3006
SEQUENCE:0
DTSTAMP:20260421T094107Z
DTSTART:20260407T090000Z
DTEND:20260407T104000Z
SUMMARY:Специальная подготовка
LOCATION:СК 1 к.\, метод.класс
END:VEVENT
BEGIN:VEVENT
UID:9ylu@192.168.245.71:3006
SEQUENCE:0
DTSTAMP:20260421T094107Z
DTSTART:20260407T110000Z
DTEND:20260407T124000Z
SUMMARY:Корпоративное управление
LOCATION:50 уч.к 1326
END:VEVENT
BEGIN:VEVENT
UID:doap@192.168.245.71:3006
SEQUENCE:0
DTSTAMP:20260421T094107Z
DTSTART:20260409T070000Z
DTEND:20260409T084000Z
SUMMARY:Экономический анализ
LOCATION:50 уч.к 1245
END:VEVENT
BEGIN:VEVENT
UID:494a@192.168.245.71:3006
SEQUENCE:0
DTSTAMP:20260421T094107Z
DTSTART:20260409T090000Z
DTEND:20260409T104000Z
SUMMARY:Экономический анализ
LOCATION:50 уч.к 1113
END:VEVENT
BEGIN:VEVENT
UID:rd6w@192.168.245.71:3006
SEQUENCE:0
DTSTAMP:20260421T094107Z
DTSTART:20260410T070000Z
DTEND:20260410T084000Z
SUMMARY:Внутренний контроль и внутренний аудит
LOCATION:50 уч.к 1324
END:VEVENT
BEGIN:VEVENT
UID:raxq@192.168.245.71:3006
SEQUENCE:0
DTSTAMP:20260421T094107Z
DTSTART:20260410T090000Z
DTEND:20260410T104000Z
SUMMARY:Внутренний контроль и внутренний аудит
LOCATION:50 уч.к 1324
END:VEVENT
BEGIN:VEVENT
UID:5gen@192.168.245.71:3006
SEQUENCE:0
DTSTAMP:20260421T094107Z
DTSTART:20260410T110000Z
DTEND:20260410T124000Z
SUMMARY:Внутренний контроль и внутренний аудит
LOCATION:50 уч.к 1432
END:VEVENT
BEGIN:VEVENT
UID:7lnm@192.168.245.71:3006
SEQUENCE:0
DTSTAMP:20260421T094107Z
DTSTART:20260411T070000Z
DTEND:20260411T084000Z
SUMMARY:Внутренний контроль и внутренний аудит
LOCATION:50 уч.к 1327
END:VEVENT
BEGIN:VEVENT
UID:en44@192.168.245.71:3006
SEQUENCE:0
DTSTAMP:20260421T094107Z
DTSTART:20260411T090000Z
DTEND:20260411T104000Z
SUMMARY:Внутренний контроль и внутренний аудит
LOCATION:50 уч.к 1327
END:VEVENT
BEGIN:VEVENT
UID:3wtk@192.168.245.71:3006
SEQUENCE:0
DTSTAMP:20260421T094107Z
DTSTART:20260411T110000Z
DTEND:20260411T124000Z
SUMMARY:Внутренний контроль и внутренний аудит
LOCATION:50 уч.к 1432
END:VEVENT
END:VCALENDAR