BEGIN:VCALENDAR
VERSION:2.0
PRODID:-//spbstu.ru//ical//RU
NAME:Расписание группы 3753801/20102
X-WR-CALNAME:Расписание группы 3753801/20102
TIMEZONE-ID:Europe/Moscow
X-WR-TIMEZONE:Europe/Moscow
BEGIN:VEVENT
UID:bpqp@192.168.245.71:3006
SEQUENCE:0
DTSTAMP:20260425T020649Z
DTSTART:20251013T070000Z
DTEND:20251013T084000Z
SUMMARY:Эконометрика
LOCATION:50 уч.к 1341
END:VEVENT
BEGIN:VEVENT
UID:d91t@192.168.245.71:3006
SEQUENCE:0
DTSTAMP:20260425T020649Z
DTSTART:20251013T090000Z
DTEND:20251013T104000Z
SUMMARY:Финансовый менеджмент
LOCATION:50 уч.к 1243
END:VEVENT
BEGIN:VEVENT
UID:5pgd@192.168.245.71:3006
SEQUENCE:0
DTSTAMP:20260425T020649Z
DTSTART:20251013T110000Z
DTEND:20251013T124000Z
SUMMARY:Финансовый менеджмент
LOCATION:50 уч.к 1336
END:VEVENT
BEGIN:VEVENT
UID:sxif@192.168.245.71:3006
SEQUENCE:0
DTSTAMP:20260425T020649Z
DTSTART:20251013T130000Z
DTEND:20251013T144000Z
SUMMARY:Финансовый менеджмент
LOCATION:50 уч.к 1336
END:VEVENT
BEGIN:VEVENT
UID:uylo@192.168.245.71:3006
SEQUENCE:0
DTSTAMP:20260425T020649Z
DTSTART:20251014T090000Z
DTEND:20251014T104000Z
SUMMARY:Специальная подготовка
LOCATION:СК 1 к.\, метод.класс
END:VEVENT
BEGIN:VEVENT
UID:kmg1@192.168.245.71:3006
SEQUENCE:0
DTSTAMP:20260425T020649Z
DTSTART:20251014T110000Z
DTEND:20251014T124000Z
SUMMARY:Экономическая безопасность организаций
LOCATION:50 уч.к 1243
END:VEVENT
BEGIN:VEVENT
UID:4gau@192.168.245.71:3006
SEQUENCE:0
DTSTAMP:20260425T020649Z
DTSTART:20251014T130000Z
DTEND:20251014T144000Z
SUMMARY:Экономическая безопасность организаций
LOCATION:50 уч.к 1226
END:VEVENT
BEGIN:VEVENT
UID:b0f5@192.168.245.71:3006
SEQUENCE:0
DTSTAMP:20260425T020649Z
DTSTART:20251016T070000Z
DTEND:20251016T084000Z
SUMMARY:Эконометрика
LOCATION:50 уч.к 1211
END:VEVENT
BEGIN:VEVENT
UID:c5bi@192.168.245.71:3006
SEQUENCE:0
DTSTAMP:20260425T020649Z
DTSTART:20251016T090000Z
DTEND:20251016T104000Z
SUMMARY:Контроль и ревизия
LOCATION:50 уч.к 1427
END:VEVENT
BEGIN:VEVENT
UID:zuru@192.168.245.71:3006
SEQUENCE:0
DTSTAMP:20260425T020649Z
DTSTART:20251016T110000Z
DTEND:20251016T124000Z
SUMMARY:Управление персоналом
LOCATION:50 уч.к 1231
END:VEVENT
BEGIN:VEVENT
UID:7ens@192.168.245.71:3006
SEQUENCE:0
DTSTAMP:20260425T020649Z
DTSTART:20251017T070000Z
DTEND:20251017T084000Z
SUMMARY:Управленческий учет
LOCATION:50 уч.к 1319
END:VEVENT
BEGIN:VEVENT
UID:xsbr@192.168.245.71:3006
SEQUENCE:0
DTSTAMP:20260425T020649Z
DTSTART:20251017T090000Z
DTEND:20251017T104000Z
SUMMARY:Управленческий учет
LOCATION:50 уч.к 1432
END:VEVENT
BEGIN:VEVENT
UID:oc6i@192.168.245.71:3006
SEQUENCE:0
DTSTAMP:20260425T020649Z
DTSTART:20251017T110000Z
DTEND:20251017T124000Z
SUMMARY:Международные стандарты аудита
LOCATION:50 уч.к 1112
END:VEVENT
BEGIN:VEVENT
UID:txd1@192.168.245.71:3006
SEQUENCE:0
DTSTAMP:20260425T020649Z
DTSTART:20251017T130000Z
DTEND:20251017T144000Z
SUMMARY:Международные стандарты аудита
LOCATION:50 уч.к 1218
END:VEVENT
END:VCALENDAR