BEGIN:VCALENDAR
VERSION:2.0
PRODID:-//spbstu.ru//ical//RU
NAME:Расписание группы 3753801/20102
X-WR-CALNAME:Расписание группы 3753801/20102
TIMEZONE-ID:Europe/Moscow
X-WR-TIMEZONE:Europe/Moscow
BEGIN:VEVENT
UID:pazq@192.168.245.71:3006
SEQUENCE:0
DTSTAMP:20260424T043205Z
DTSTART:20251215T070000Z
DTEND:20251215T084000Z
SUMMARY:Эконометрика
LOCATION:50 уч.к 1341
END:VEVENT
BEGIN:VEVENT
UID:tqps@192.168.245.71:3006
SEQUENCE:0
DTSTAMP:20260424T043205Z
DTSTART:20251215T090000Z
DTEND:20251215T104000Z
SUMMARY:Страхование
LOCATION:50 уч.к 1243
END:VEVENT
BEGIN:VEVENT
UID:k0de@192.168.245.71:3006
SEQUENCE:0
DTSTAMP:20260424T043205Z
DTSTART:20251216T110000Z
DTEND:20251216T124000Z
SUMMARY:Экономическая безопасность организаций
LOCATION:50 уч.к 1243
END:VEVENT
BEGIN:VEVENT
UID:y33g@192.168.245.71:3006
SEQUENCE:0
DTSTAMP:20260424T043205Z
DTSTART:20251216T130000Z
DTEND:20251216T144000Z
SUMMARY:Экономическая безопасность организаций
LOCATION:50 уч.к 1226
END:VEVENT
BEGIN:VEVENT
UID:gc6x@192.168.245.71:3006
SEQUENCE:0
DTSTAMP:20260424T043205Z
DTSTART:20251217T070000Z
DTEND:20251217T084000Z
SUMMARY:Эконометрика
LOCATION:50 уч.к 1103
END:VEVENT
BEGIN:VEVENT
UID:bl3p@192.168.245.71:3006
SEQUENCE:0
DTSTAMP:20260424T043205Z
DTSTART:20251219T090000Z
DTEND:20251219T104000Z
SUMMARY:Специальная подготовка
LOCATION:СК 1 к.\, метод.класс
END:VEVENT
BEGIN:VEVENT
UID:2up1@192.168.245.71:3006
SEQUENCE:0
DTSTAMP:20260424T043205Z
DTSTART:20251220T070000Z
DTEND:20251220T093000Z
SUMMARY:Международные стандарты аудита
LOCATION:50 уч.к 1218
END:VEVENT
END:VCALENDAR