BEGIN:VCALENDAR
VERSION:2.0
PRODID:-//spbstu.ru//ical//RU
NAME:Расписание группы 3753801/20102
X-WR-CALNAME:Расписание группы 3753801/20102
TIMEZONE-ID:Europe/Moscow
X-WR-TIMEZONE:Europe/Moscow
BEGIN:VEVENT
UID:8eau@192.168.245.71:3006
SEQUENCE:0
DTSTAMP:20260426T040356Z
DTSTART:20250908T070000Z
DTEND:20250908T084000Z
SUMMARY:Эконометрика
LOCATION:50 уч.к 1341
END:VEVENT
BEGIN:VEVENT
UID:4ey1@192.168.245.71:3006
SEQUENCE:0
DTSTAMP:20260426T040356Z
DTSTART:20250908T090000Z
DTEND:20250908T104000Z
SUMMARY:Страхование
LOCATION:50 уч.к 1243
END:VEVENT
BEGIN:VEVENT
UID:z05l@192.168.245.71:3006
SEQUENCE:0
DTSTAMP:20260426T040356Z
DTSTART:20250909T110000Z
DTEND:20250909T124000Z
SUMMARY:Экономическая безопасность организаций
LOCATION:50 уч.к 1243
END:VEVENT
BEGIN:VEVENT
UID:iyef@192.168.245.71:3006
SEQUENCE:0
DTSTAMP:20260426T040356Z
DTSTART:20250909T130000Z
DTEND:20250909T144000Z
SUMMARY:Экономическая безопасность организаций
LOCATION:50 уч.к 1226
END:VEVENT
BEGIN:VEVENT
UID:n8xs@192.168.245.71:3006
SEQUENCE:0
DTSTAMP:20260426T040356Z
DTSTART:20250911T050000Z
DTEND:20250911T064000Z
SUMMARY:Управление персоналом
LOCATION:50 уч.к 1432
END:VEVENT
BEGIN:VEVENT
UID:j2r6@192.168.245.71:3006
SEQUENCE:0
DTSTAMP:20260426T040356Z
DTSTART:20250911T070000Z
DTEND:20250911T084000Z
SUMMARY:Эконометрика
LOCATION:50 уч.к 1211
END:VEVENT
BEGIN:VEVENT
UID:w970@192.168.245.71:3006
SEQUENCE:0
DTSTAMP:20260426T040356Z
DTSTART:20250911T090000Z
DTEND:20250911T104000Z
SUMMARY:Контроль и ревизия
LOCATION:50 уч.к 1427
END:VEVENT
BEGIN:VEVENT
UID:ell7@192.168.245.71:3006
SEQUENCE:0
DTSTAMP:20260426T040356Z
DTSTART:20250911T110000Z
DTEND:20250911T124000Z
SUMMARY:Управление персоналом
LOCATION:50 уч.к 1231
END:VEVENT
BEGIN:VEVENT
UID:jujr@192.168.245.71:3006
SEQUENCE:0
DTSTAMP:20260426T040356Z
DTSTART:20250912T070000Z
DTEND:20250912T084000Z
SUMMARY:Страхование
LOCATION:50 уч.к 1234
END:VEVENT
BEGIN:VEVENT
UID:usig@192.168.245.71:3006
SEQUENCE:0
DTSTAMP:20260426T040356Z
DTSTART:20250913T070000Z
DTEND:20250913T084000Z
SUMMARY:Контроль и ревизия
LOCATION:50 уч.к 1105
END:VEVENT
BEGIN:VEVENT
UID:mhpp@192.168.245.71:3006
SEQUENCE:0
DTSTAMP:20260426T040356Z
DTSTART:20250913T090000Z
DTEND:20250913T104000Z
SUMMARY:Контроль и ревизия
LOCATION:50 уч.к 1105
END:VEVENT
BEGIN:VEVENT
UID:oiqw@192.168.245.71:3006
SEQUENCE:0
DTSTAMP:20260426T040356Z
DTSTART:20250913T110000Z
DTEND:20250913T124000Z
SUMMARY:Контроль и ревизия
LOCATION:50 уч.к 1105
END:VEVENT
END:VCALENDAR