BEGIN:VCALENDAR
VERSION:2.0
PRODID:-//spbstu.ru//ical//RU
NAME:Расписание группы 3753801/20102
X-WR-CALNAME:Расписание группы 3753801/20102
TIMEZONE-ID:Europe/Moscow
X-WR-TIMEZONE:Europe/Moscow
BEGIN:VEVENT
UID:sida@192.168.245.71:3006
SEQUENCE:0
DTSTAMP:20260422T225119Z
DTSTART:20260119T070000Z
DTEND:20260119T090000Z
SUMMARY:Контроль и ревизия
LOCATION:50 уч.к 1323
END:VEVENT
BEGIN:VEVENT
UID:gqlx@192.168.245.71:3006
SEQUENCE:0
DTSTAMP:20260422T225119Z
DTSTART:20260121T070000Z
DTEND:20260121T080000Z
SUMMARY:Управленческий учет
LOCATION:50 уч.к 1243
END:VEVENT
BEGIN:VEVENT
UID:jhgb@192.168.245.71:3006
SEQUENCE:0
DTSTAMP:20260422T225119Z
DTSTART:20260123T110000Z
DTEND:20260123T143000Z
SUMMARY:Управленческий учет
LOCATION:50 уч.к 1323
END:VEVENT
END:VCALENDAR