BEGIN:VCALENDAR
VERSION:2.0
PRODID:-//spbstu.ru//ical//RU
NAME:Расписание группы 3753801/20102
X-WR-CALNAME:Расписание группы 3753801/20102
TIMEZONE-ID:Europe/Moscow
X-WR-TIMEZONE:Europe/Moscow
BEGIN:VEVENT
UID:3m5x@192.168.245.71:3006
SEQUENCE:0
DTSTAMP:20260422T002620Z
DTSTART:20260302T070000Z
DTEND:20260302T084000Z
SUMMARY:Обеспечение экономико-правовой защиты собственности и предпринимат
 ельской деятельности
LOCATION:50 уч.к 1432
END:VEVENT
BEGIN:VEVENT
UID:c7or@192.168.245.71:3006
SEQUENCE:0
DTSTAMP:20260422T002620Z
DTSTART:20260302T090000Z
DTEND:20260302T104000Z
SUMMARY:Автоматизация бизнес-процессов
LOCATION:50 уч.к 1103
END:VEVENT
BEGIN:VEVENT
UID:eb7s@192.168.245.71:3006
SEQUENCE:0
DTSTAMP:20260422T002620Z
DTSTART:20260302T110000Z
DTEND:20260302T124000Z
SUMMARY:Обеспечение экономико-правовой защиты собственности и предпринимат
 ельской деятельности
LOCATION:50 уч.к 1425
END:VEVENT
BEGIN:VEVENT
UID:aizg@192.168.245.71:3006
SEQUENCE:0
DTSTAMP:20260422T002620Z
DTSTART:20260302T130000Z
DTEND:20260302T144000Z
SUMMARY:Корпоративное управление
LOCATION:50 уч.к 1432
END:VEVENT
BEGIN:VEVENT
UID:hojm@192.168.245.71:3006
SEQUENCE:0
DTSTAMP:20260422T002620Z
DTSTART:20260303T070000Z
DTEND:20260303T084000Z
SUMMARY:Специальная подготовка
LOCATION:СК 1 к.\, метод.класс
END:VEVENT
BEGIN:VEVENT
UID:v3cp@192.168.245.71:3006
SEQUENCE:0
DTSTAMP:20260422T002620Z
DTSTART:20260303T090000Z
DTEND:20260303T104000Z
SUMMARY:Корпоративное управление
LOCATION:50 уч.к 1326
END:VEVENT
BEGIN:VEVENT
UID:eiwd@192.168.245.71:3006
SEQUENCE:0
DTSTAMP:20260422T002620Z
DTSTART:20260305T070000Z
DTEND:20260305T084000Z
SUMMARY:Основы информационной безопасности
LOCATION:50 уч.к 1245
END:VEVENT
BEGIN:VEVENT
UID:mei0@192.168.245.71:3006
SEQUENCE:0
DTSTAMP:20260422T002620Z
DTSTART:20260305T090000Z
DTEND:20260305T104000Z
SUMMARY:Основы информационной безопасности
LOCATION:50 уч.к 1103
END:VEVENT
BEGIN:VEVENT
UID:dvu2@192.168.245.71:3006
SEQUENCE:0
DTSTAMP:20260422T002620Z
DTSTART:20260305T110000Z
DTEND:20260305T124000Z
SUMMARY:Автоматизация бизнес-процессов
LOCATION:50 уч.к 1103
END:VEVENT
END:VCALENDAR