BEGIN:VCALENDAR
VERSION:2.0
PRODID:-//spbstu.ru//ical//RU
NAME:Расписание группы 3753801/20401
X-WR-CALNAME:Расписание группы 3753801/20401
TIMEZONE-ID:Europe/Moscow
X-WR-TIMEZONE:Europe/Moscow
BEGIN:VEVENT
UID:gcv5@192.168.245.71:3006
SEQUENCE:0
DTSTAMP:20260421T232231Z
DTSTART:20260310T070000Z
DTEND:20260310T084000Z
SUMMARY:Судебная налоговая экспертиза
LOCATION:50 уч.к 1418
END:VEVENT
BEGIN:VEVENT
UID:k9rc@192.168.245.71:3006
SEQUENCE:0
DTSTAMP:20260421T232231Z
DTSTART:20260310T090000Z
DTEND:20260310T104000Z
SUMMARY:Судебная налоговая экспертиза
LOCATION:50 уч.к 1418
END:VEVENT
BEGIN:VEVENT
UID:a8pk@192.168.245.71:3006
SEQUENCE:0
DTSTAMP:20260421T232231Z
DTSTART:20260310T110000Z
DTEND:20260310T124000Z
SUMMARY:Специальная подготовка
LOCATION:СК 1 к.\, метод.класс
END:VEVENT
BEGIN:VEVENT
UID:jrdx@192.168.245.71:3006
SEQUENCE:0
DTSTAMP:20260421T232231Z
DTSTART:20260312T070000Z
DTEND:20260312T084000Z
SUMMARY:Экономический анализ
LOCATION:50 уч.к 1245
END:VEVENT
BEGIN:VEVENT
UID:7jus@192.168.245.71:3006
SEQUENCE:0
DTSTAMP:20260421T232231Z
DTSTART:20260312T090000Z
DTEND:20260312T104000Z
SUMMARY:Экономический анализ
LOCATION:50 уч.к 1425
END:VEVENT
BEGIN:VEVENT
UID:57cm@192.168.245.71:3006
SEQUENCE:0
DTSTAMP:20260421T232231Z
DTSTART:20260312T110000Z
DTEND:20260312T124000Z
SUMMARY:Экономический анализ
LOCATION:50 уч.к 1425
END:VEVENT
BEGIN:VEVENT
UID:cuhc@192.168.245.71:3006
SEQUENCE:0
DTSTAMP:20260421T232231Z
DTSTART:20260313T090000Z
DTEND:20260313T104000Z
SUMMARY:Внутренний контроль и внутренний аудит
LOCATION:50 уч.к 1338
END:VEVENT
BEGIN:VEVENT
UID:m4xw@192.168.245.71:3006
SEQUENCE:0
DTSTAMP:20260421T232231Z
DTSTART:20260313T110000Z
DTEND:20260313T124000Z
SUMMARY:Внутренний контроль и внутренний аудит
LOCATION:50 уч.к 1338
END:VEVENT
BEGIN:VEVENT
UID:f6t6@192.168.245.71:3006
SEQUENCE:0
DTSTAMP:20260421T232231Z
DTSTART:20260313T130000Z
DTEND:20260313T144000Z
SUMMARY:Внутренний контроль и внутренний аудит
LOCATION:50 уч.к 1338
END:VEVENT
BEGIN:VEVENT
UID:xh0t@192.168.245.71:3006
SEQUENCE:0
DTSTAMP:20260421T232231Z
DTSTART:20260313T150000Z
DTEND:20260313T164000Z
SUMMARY:Внутренний контроль и внутренний аудит
LOCATION:50 уч.к 1251
END:VEVENT
BEGIN:VEVENT
UID:8yth@192.168.245.71:3006
SEQUENCE:0
DTSTAMP:20260421T232231Z
DTSTART:20260314T090000Z
DTEND:20260314T104000Z
SUMMARY:Внутренний контроль и внутренний аудит
LOCATION:50 уч.к 1338
END:VEVENT
BEGIN:VEVENT
UID:s2no@192.168.245.71:3006
SEQUENCE:0
DTSTAMP:20260421T232231Z
DTSTART:20260314T110000Z
DTEND:20260314T124000Z
SUMMARY:Внутренний контроль и внутренний аудит
LOCATION:50 уч.к 1338
END:VEVENT
BEGIN:VEVENT
UID:n32a@192.168.245.71:3006
SEQUENCE:0
DTSTAMP:20260421T232231Z
DTSTART:20260314T130000Z
DTEND:20260314T144000Z
SUMMARY:Внутренний контроль и внутренний аудит
LOCATION:50 уч.к 1338
END:VEVENT
BEGIN:VEVENT
UID:sfm4@192.168.245.71:3006
SEQUENCE:0
DTSTAMP:20260421T232231Z
DTSTART:20260314T150000Z
DTEND:20260314T164000Z
SUMMARY:Внутренний контроль и внутренний аудит
LOCATION:50 уч.к 1319
END:VEVENT
END:VCALENDAR