BEGIN:VCALENDAR
VERSION:2.0
PRODID:-//spbstu.ru//ical//RU
NAME:Расписание группы 3753801/20401
X-WR-CALNAME:Расписание группы 3753801/20401
TIMEZONE-ID:Europe/Moscow
X-WR-TIMEZONE:Europe/Moscow
BEGIN:VEVENT
UID:zdfk@192.168.245.71:3006
SEQUENCE:0
DTSTAMP:20260421T081324Z
DTSTART:20260413T070000Z
DTEND:20260413T084000Z
SUMMARY:Обеспечение экономико-правовой защиты собственности и предпринимат
 ельской деятельности
LOCATION:50 уч.к 1432
END:VEVENT
BEGIN:VEVENT
UID:sszq@192.168.245.71:3006
SEQUENCE:0
DTSTAMP:20260421T081324Z
DTSTART:20260413T090000Z
DTEND:20260413T104000Z
SUMMARY:Автоматизация бизнес-процессов
LOCATION:50 уч.к 1103
END:VEVENT
BEGIN:VEVENT
UID:8lx8@192.168.245.71:3006
SEQUENCE:0
DTSTAMP:20260421T081324Z
DTSTART:20260413T110000Z
DTEND:20260413T124000Z
SUMMARY:Обеспечение экономико-правовой защиты собственности и предпринимат
 ельской деятельности
LOCATION:50 уч.к 1425
END:VEVENT
BEGIN:VEVENT
UID:y7vl@192.168.245.71:3006
SEQUENCE:0
DTSTAMP:20260421T081324Z
DTSTART:20260414T090000Z
DTEND:20260414T104000Z
SUMMARY:Судебная налоговая экспертиза
LOCATION:50 уч.к 1418
END:VEVENT
BEGIN:VEVENT
UID:u9ty@192.168.245.71:3006
SEQUENCE:0
DTSTAMP:20260421T081324Z
DTSTART:20260414T110000Z
DTEND:20260414T124000Z
SUMMARY:Специальная подготовка
LOCATION:СК 1 к.\, метод.класс
END:VEVENT
BEGIN:VEVENT
UID:8wt9@192.168.245.71:3006
SEQUENCE:0
DTSTAMP:20260421T081324Z
DTSTART:20260416T070000Z
DTEND:20260416T084000Z
SUMMARY:Основы информационной безопасности
LOCATION:50 уч.к 1245
END:VEVENT
BEGIN:VEVENT
UID:bc9a@192.168.245.71:3006
SEQUENCE:0
DTSTAMP:20260421T081324Z
DTSTART:20260416T090000Z
DTEND:20260416T104000Z
SUMMARY:Основы информационной безопасности
LOCATION:50 уч.к 1103
END:VEVENT
BEGIN:VEVENT
UID:3wsc@192.168.245.71:3006
SEQUENCE:0
DTSTAMP:20260421T081324Z
DTSTART:20260416T110000Z
DTEND:20260416T124000Z
SUMMARY:Автоматизация бизнес-процессов
LOCATION:50 уч.к 1103
END:VEVENT
BEGIN:VEVENT
UID:195k@192.168.245.71:3006
SEQUENCE:0
DTSTAMP:20260421T081324Z
DTSTART:20260417T090000Z
DTEND:20260417T104000Z
SUMMARY:Обеспечение экономико-правовой защиты собственности и предпринимат
 ельской деятельности
LOCATION:50 уч.к 1338
END:VEVENT
BEGIN:VEVENT
UID:l2co@192.168.245.71:3006
SEQUENCE:0
DTSTAMP:20260421T081324Z
DTSTART:20260417T110000Z
DTEND:20260417T124000Z
SUMMARY:Обеспечение экономико-правовой защиты собственности и предпринимат
 ельской деятельности
LOCATION:50 уч.к 1338
END:VEVENT
END:VCALENDAR