BEGIN:VCALENDAR
VERSION:2.0
PRODID:-//spbstu.ru//ical//RU
NAME:Расписание группы 3753801/10401
X-WR-CALNAME:Расписание группы 3753801/10401
TIMEZONE-ID:Europe/Moscow
X-WR-TIMEZONE:Europe/Moscow
BEGIN:VEVENT
UID:gu8g@192.168.245.71:3006
SEQUENCE:0
DTSTAMP:20260421T222956Z
DTSTART:20260414T070000Z
DTEND:20260414T072500Z
SUMMARY:Документирование результатов судебной экономической экспертизы
LOCATION:50 уч.к 1427
END:VEVENT
BEGIN:VEVENT
UID:mgtl@192.168.245.71:3006
SEQUENCE:0
DTSTAMP:20260421T222956Z
DTSTART:20260414T073000Z
DTEND:20260414T103000Z
SUMMARY:Документирование результатов судебной экономической экспертизы
LOCATION:50 уч.к 1427
END:VEVENT
END:VCALENDAR