BEGIN:VCALENDAR
VERSION:2.0
PRODID:-//spbstu.ru//ical//RU
NAME:Расписание группы з3743802/35301
X-WR-CALNAME:Расписание группы з3743802/35301
TIMEZONE-ID:Europe/Moscow
X-WR-TIMEZONE:Europe/Moscow
BEGIN:VEVENT
UID:9veb@192.168.245.71:3006
SEQUENCE:0
DTSTAMP:20260424T202339Z
DTSTART:20260120T090000Z
DTEND:20260120T104000Z
SUMMARY:Оформление и представление результатов исследований
LOCATION:50 уч.к 1245
END:VEVENT
BEGIN:VEVENT
UID:xqpc@192.168.245.71:3006
SEQUENCE:0
DTSTAMP:20260424T202339Z
DTSTART:20260120T110000Z
DTEND:20260120T124000Z
SUMMARY:Оформление и представление результатов исследований
LOCATION:50 уч.к 1245
END:VEVENT
BEGIN:VEVENT
UID:txr2@192.168.245.71:3006
SEQUENCE:0
DTSTAMP:20260424T202339Z
DTSTART:20260120T130000Z
DTEND:20260120T144000Z
SUMMARY:Оформление и представление результатов исследований
LOCATION:50 уч.к 1245
END:VEVENT
BEGIN:VEVENT
UID:vro6@192.168.245.71:3006
SEQUENCE:0
DTSTAMP:20260424T202339Z
DTSTART:20260120T143100Z
DTEND:20260120T150000Z
SUMMARY:Преддипломная практика
LOCATION:50 уч.к 1318
END:VEVENT
BEGIN:VEVENT
UID:g9g2@192.168.245.71:3006
SEQUENCE:0
DTSTAMP:20260424T202339Z
DTSTART:20260122T090000Z
DTEND:20260122T104000Z
SUMMARY:Оформление и представление результатов исследований
LOCATION:50 уч.к 1414
END:VEVENT
BEGIN:VEVENT
UID:jpew@192.168.245.71:3006
SEQUENCE:0
DTSTAMP:20260424T202339Z
DTSTART:20260122T110000Z
DTEND:20260122T124000Z
SUMMARY:Оформление и представление результатов исследований
LOCATION:50 уч.к 1414
END:VEVENT
BEGIN:VEVENT
UID:dgq2@192.168.245.71:3006
SEQUENCE:0
DTSTAMP:20260424T202339Z
DTSTART:20260122T130000Z
DTEND:20260122T144000Z
SUMMARY:Оформление и представление результатов исследований
LOCATION:50 уч.к 1414
END:VEVENT
BEGIN:VEVENT
UID:ejoi@192.168.245.71:3006
SEQUENCE:0
DTSTAMP:20260424T202339Z
DTSTART:20260122T143000Z
DTEND:20260122T150000Z
SUMMARY:Преддипломная практика
LOCATION:50 уч.к 1325
END:VEVENT
BEGIN:VEVENT
UID:mzsd@192.168.245.71:3006
SEQUENCE:0
DTSTAMP:20260424T202339Z
DTSTART:20260123T110000Z
DTEND:20260123T124000Z
SUMMARY:Оформление и представление результатов исследований
LOCATION:50 уч.к 1424
END:VEVENT
BEGIN:VEVENT
UID:eesr@192.168.245.71:3006
SEQUENCE:0
DTSTAMP:20260424T202339Z
DTSTART:20260123T130000Z
DTEND:20260123T144000Z
SUMMARY:Оформление и представление результатов исследований
LOCATION:50 уч.к 1424
END:VEVENT
BEGIN:VEVENT
UID:uckt@192.168.245.71:3006
SEQUENCE:0
DTSTAMP:20260424T202339Z
DTSTART:20260124T080000Z
DTEND:20260124T090000Z
SUMMARY:Оформление и представление результатов исследований
LOCATION:50 уч.к 1319
END:VEVENT
END:VCALENDAR