BEGIN:VCALENDAR
VERSION:2.0
PRODID:-//spbstu.ru//ical//RU
NAME:Расписание группы з3743809/30101
X-WR-CALNAME:Расписание группы з3743809/30101
TIMEZONE-ID:Europe/Moscow
X-WR-TIMEZONE:Europe/Moscow
BEGIN:VEVENT
UID:c788@192.168.245.71:3006
SEQUENCE:0
DTSTAMP:20260425T134641Z
DTSTART:20251001T143000Z
DTEND:20251001T145500Z
SUMMARY:Научно-исследовательская работа
LOCATION:DL Дистанционно
END:VEVENT
END:VCALENDAR