BEGIN:VCALENDAR
VERSION:2.0
PRODID:-//spbstu.ru//ical//RU
NAME:Расписание группы 3733801/43001
X-WR-CALNAME:Расписание группы 3733801/43001
TIMEZONE-ID:Europe/Moscow
X-WR-TIMEZONE:Europe/Moscow
BEGIN:VEVENT
UID:s3et@192.168.245.71:3006
SEQUENCE:0
DTSTAMP:20260422T014232Z
DTSTART:20260420T070000Z
DTEND:20260420T084000Z
SUMMARY:Статистика (на английском языке)
LOCATION:50 уч.к 1336
END:VEVENT
BEGIN:VEVENT
UID:dftx@192.168.245.71:3006
SEQUENCE:0
DTSTAMP:20260422T014232Z
DTSTART:20260420T090000Z
DTEND:20260420T104000Z
SUMMARY:История России (на английском языке)
LOCATION:50 уч.к 1424
END:VEVENT
BEGIN:VEVENT
UID:x6vl@192.168.245.71:3006
SEQUENCE:0
DTSTAMP:20260422T014232Z
DTSTART:20260420T110000Z
DTEND:20260420T124000Z
SUMMARY:Элективная  физическая культура и спорт
LOCATION:СК Спортивный зал
END:VEVENT
BEGIN:VEVENT
UID:75s5@192.168.245.71:3006
SEQUENCE:0
DTSTAMP:20260422T014232Z
DTSTART:20260421T070000Z
DTEND:20260421T084000Z
SUMMARY:Технологии цифровой промышленности (на английском языке)
LOCATION:DL Дистанционно
END:VEVENT
BEGIN:VEVENT
UID:q4vo@192.168.245.71:3006
SEQUENCE:0
DTSTAMP:20260422T014232Z
DTSTART:20260421T090000Z
DTEND:20260421T104000Z
SUMMARY:Технологии цифровой промышленности (на английском языке)
LOCATION:DL Дистанционно
END:VEVENT
BEGIN:VEVENT
UID:xpzh@192.168.245.71:3006
SEQUENCE:0
DTSTAMP:20260422T014232Z
DTSTART:20260421T110000Z
DTEND:20260421T124000Z
SUMMARY:Мировая экономика (на английском языке)
LOCATION:DL Дистанционно
END:VEVENT
BEGIN:VEVENT
UID:n2u0@192.168.245.71:3006
SEQUENCE:0
DTSTAMP:20260422T014232Z
DTSTART:20260421T130000Z
DTEND:20260421T144000Z
SUMMARY:Мировая экономика (на английском языке)
LOCATION:DL Дистанционно
END:VEVENT
BEGIN:VEVENT
UID:hk1k@192.168.245.71:3006
SEQUENCE:0
DTSTAMP:20260422T014232Z
DTSTART:20260422T070000Z
DTEND:20260422T084000Z
SUMMARY:Основы проектной деятельности (на английском языке)
LOCATION:50 уч.к 1428
END:VEVENT
BEGIN:VEVENT
UID:o1ln@192.168.245.71:3006
SEQUENCE:0
DTSTAMP:20260422T014232Z
DTSTART:20260422T090000Z
DTEND:20260422T104000Z
SUMMARY:Основы проектной деятельности (на английском языке)
LOCATION:50 уч.к 1111
END:VEVENT
BEGIN:VEVENT
UID:j957@192.168.245.71:3006
SEQUENCE:0
DTSTAMP:20260422T014232Z
DTSTART:20260422T110000Z
DTEND:20260422T124000Z
SUMMARY:Статистика (на английском языке)
LOCATION:50 уч.к 1338
END:VEVENT
BEGIN:VEVENT
UID:yn2u@192.168.245.71:3006
SEQUENCE:0
DTSTAMP:20260422T014232Z
DTSTART:20260422T130000Z
DTEND:20260422T144000Z
SUMMARY:Информационные системы и технологии (на английском языке)
LOCATION:50 уч.к 1331
END:VEVENT
BEGIN:VEVENT
UID:c77u@192.168.245.71:3006
SEQUENCE:0
DTSTAMP:20260422T014232Z
DTSTART:20260423T070000Z
DTEND:20260423T084000Z
SUMMARY:Финансовая отчетность (на английском языке)
LOCATION:50 уч.к 1230
END:VEVENT
BEGIN:VEVENT
UID:y23u@192.168.245.71:3006
SEQUENCE:0
DTSTAMP:20260422T014232Z
DTSTART:20260423T090000Z
DTEND:20260423T104000Z
SUMMARY:Элективная  физическая культура и спорт
LOCATION:СК Спортивный зал
END:VEVENT
BEGIN:VEVENT
UID:ga05@192.168.245.71:3006
SEQUENCE:0
DTSTAMP:20260422T014232Z
DTSTART:20260423T110000Z
DTEND:20260423T124000Z
SUMMARY:История России (на английском языке)
LOCATION:50 уч.к 1317
END:VEVENT
BEGIN:VEVENT
UID:nfpo@192.168.245.71:3006
SEQUENCE:0
DTSTAMP:20260422T014232Z
DTSTART:20260423T130000Z
DTEND:20260423T144000Z
SUMMARY:Математические методы в экономике и управлении (на английском язык
 е)
LOCATION:50 уч.к 1336а
END:VEVENT
BEGIN:VEVENT
UID:v7ix@192.168.245.71:3006
SEQUENCE:0
DTSTAMP:20260422T014232Z
DTSTART:20260424T130000Z
DTEND:20260424T144000Z
SUMMARY:Финансовая отчетность (на английском языке)
LOCATION:50 уч.к 1249
END:VEVENT
END:VCALENDAR