BEGIN:VCALENDAR
VERSION:2.0
PRODID:-//spbstu.ru//ical//RU
NAME:Расписание группы 3834001/50005
X-WR-CALNAME:Расписание группы 3834001/50005
TIMEZONE-ID:Europe/Moscow
X-WR-TIMEZONE:Europe/Moscow
BEGIN:VEVENT
UID:k0av@192.168.245.71:3006
SEQUENCE:0
DTSTAMP:20260421T155647Z
DTSTART:20260317T070000Z
DTEND:20260317T084000Z
SUMMARY:Элективная физическая культура и спорт
LOCATION:СК Спортивный зал
END:VEVENT
BEGIN:VEVENT
UID:14r5@192.168.245.71:3006
SEQUENCE:0
DTSTAMP:20260421T155647Z
DTSTART:20260320T050000Z
DTEND:20260320T064000Z
SUMMARY:Элективная физическая культура и спорт
LOCATION:СК Спортивный зал
END:VEVENT
END:VCALENDAR