BEGIN:VCALENDAR
VERSION:2.0
PRODID:-//spbstu.ru//ical//RU
NAME:Расписание группы 3834201/50001
X-WR-CALNAME:Расписание группы 3834201/50001
TIMEZONE-ID:Europe/Moscow
X-WR-TIMEZONE:Europe/Moscow
BEGIN:VEVENT
UID:2ruk@192.168.245.71:3006
SEQUENCE:0
DTSTAMP:20260422T094404Z
DTSTART:20260209T070000Z
DTEND:20260209T084000Z
SUMMARY:История России
LOCATION:16 к. 513
END:VEVENT
BEGIN:VEVENT
UID:vdim@192.168.245.71:3006
SEQUENCE:0
DTSTAMP:20260422T094404Z
DTSTART:20260209T090000Z
DTEND:20260209T104000Z
SUMMARY:Цифровые средства обработки данных
LOCATION:16 к. 210
END:VEVENT
BEGIN:VEVENT
UID:lq36@192.168.245.71:3006
SEQUENCE:0
DTSTAMP:20260422T094404Z
DTSTART:20260209T110000Z
DTEND:20260209T124000Z
SUMMARY:Иностранный язык: Базовый курс
LOCATION:16 к. 203
END:VEVENT
BEGIN:VEVENT
UID:62oa@192.168.245.71:3006
SEQUENCE:0
DTSTAMP:20260422T094404Z
DTSTART:20260210T050000Z
DTEND:20260210T064000Z
SUMMARY:Иностранный язык: Русский язык как иностранный
LOCATION:16 к. 214
END:VEVENT
BEGIN:VEVENT
UID:4g6t@192.168.245.71:3006
SEQUENCE:0
DTSTAMP:20260422T094404Z
DTSTART:20260210T050000Z
DTEND:20260210T064000Z
SUMMARY:Иностранный язык: Русский язык как иностранный
LOCATION:16 к. 214
END:VEVENT
BEGIN:VEVENT
UID:iq97@192.168.245.71:3006
SEQUENCE:0
DTSTAMP:20260422T094404Z
DTSTART:20260210T070000Z
DTEND:20260210T084000Z
SUMMARY:Элективная физическая культура и спорт
LOCATION:СК Секции
END:VEVENT
BEGIN:VEVENT
UID:j7on@192.168.245.71:3006
SEQUENCE:0
DTSTAMP:20260422T094404Z
DTSTART:20260210T090000Z
DTEND:20260210T104000Z
SUMMARY:Межкультурные коммуникации в информационном обществе
LOCATION:16 к. 511
END:VEVENT
BEGIN:VEVENT
UID:kerr@192.168.245.71:3006
SEQUENCE:0
DTSTAMP:20260422T094404Z
DTSTART:20260210T110000Z
DTEND:20260210T124000Z
SUMMARY:Экономическая культура
LOCATION:16 к. 509
END:VEVENT
BEGIN:VEVENT
UID:ukdj@192.168.245.71:3006
SEQUENCE:0
DTSTAMP:20260422T094404Z
DTSTART:20260210T150000Z
DTEND:20260210T164000Z
SUMMARY:Физическая культура
LOCATION:16 к. 200
END:VEVENT
BEGIN:VEVENT
UID:r4sf@192.168.245.71:3006
SEQUENCE:0
DTSTAMP:20260422T094404Z
DTSTART:20260211T050000Z
DTEND:20260211T064000Z
SUMMARY:Маркетинг
LOCATION:16 к. 503
END:VEVENT
BEGIN:VEVENT
UID:gmvp@192.168.245.71:3006
SEQUENCE:0
DTSTAMP:20260422T094404Z
DTSTART:20260211T070000Z
DTEND:20260211T084000Z
SUMMARY:Математика и статистика
LOCATION:16 к. 513
END:VEVENT
BEGIN:VEVENT
UID:40rk@192.168.245.71:3006
SEQUENCE:0
DTSTAMP:20260422T094404Z
DTSTART:20260211T110000Z
DTEND:20260211T124000Z
SUMMARY:Маркетинг
LOCATION:16 к. 200
END:VEVENT
BEGIN:VEVENT
UID:4atf@192.168.245.71:3006
SEQUENCE:0
DTSTAMP:20260422T094404Z
DTSTART:20260212T090000Z
DTEND:20260212T104000Z
SUMMARY:Цифровые средства обработки данных
LOCATION:16 к. 200
END:VEVENT
BEGIN:VEVENT
UID:nww2@192.168.245.71:3006
SEQUENCE:0
DTSTAMP:20260422T094404Z
DTSTART:20260212T110000Z
DTEND:20260212T124000Z
SUMMARY:Основы делового общения (на русском языке)
LOCATION:16 к. 515
END:VEVENT
BEGIN:VEVENT
UID:2leo@192.168.245.71:3006
SEQUENCE:0
DTSTAMP:20260422T094404Z
DTSTART:20260212T130000Z
DTEND:20260212T144000Z
SUMMARY:Основы делового общения (на русском языке)
LOCATION:16 к. 515
END:VEVENT
BEGIN:VEVENT
UID:2j2z@192.168.245.71:3006
SEQUENCE:0
DTSTAMP:20260422T094404Z
DTSTART:20260212T150000Z
DTEND:20260212T164000Z
SUMMARY:История России
LOCATION:16 к. 400
END:VEVENT
BEGIN:VEVENT
UID:053t@192.168.245.71:3006
SEQUENCE:0
DTSTAMP:20260422T094404Z
DTSTART:20260213T050000Z
DTEND:20260213T064000Z
SUMMARY:Элективная физическая культура и спорт
LOCATION:СК Секции
END:VEVENT
BEGIN:VEVENT
UID:yf6a@192.168.245.71:3006
SEQUENCE:0
DTSTAMP:20260422T094404Z
DTSTART:20260214T130000Z
DTEND:20260214T144000Z
SUMMARY:Иностранный язык: Русский язык как иностранный
LOCATION:16 к. 214
END:VEVENT
END:VCALENDAR