BEGIN:VCALENDAR
VERSION:2.0
PRODID:-//spbstu.ru//ical//RU
NAME:Расписание группы 3834201/50001
X-WR-CALNAME:Расписание группы 3834201/50001
TIMEZONE-ID:Europe/Moscow
X-WR-TIMEZONE:Europe/Moscow
BEGIN:VEVENT
UID:pdlq@192.168.245.71:3006
SEQUENCE:0
DTSTAMP:20260421T184525Z
DTSTART:20260310T050000Z
DTEND:20260310T064000Z
SUMMARY:Иностранный язык: Русский язык как иностранный
LOCATION:16 к. 214
END:VEVENT
BEGIN:VEVENT
UID:ijgp@192.168.245.71:3006
SEQUENCE:0
DTSTAMP:20260421T184525Z
DTSTART:20260310T050000Z
DTEND:20260310T064000Z
SUMMARY:Иностранный язык: Русский язык как иностранный
LOCATION:16 к. 214
END:VEVENT
BEGIN:VEVENT
UID:24r8@192.168.245.71:3006
SEQUENCE:0
DTSTAMP:20260421T184525Z
DTSTART:20260310T070000Z
DTEND:20260310T084000Z
SUMMARY:Элективная физическая культура и спорт
LOCATION:СК Секции
END:VEVENT
BEGIN:VEVENT
UID:9bn1@192.168.245.71:3006
SEQUENCE:0
DTSTAMP:20260421T184525Z
DTSTART:20260310T090000Z
DTEND:20260310T104000Z
SUMMARY:Межкультурные коммуникации в информационном обществе
LOCATION:16 к. 511
END:VEVENT
BEGIN:VEVENT
UID:7qk8@192.168.245.71:3006
SEQUENCE:0
DTSTAMP:20260421T184525Z
DTSTART:20260310T110000Z
DTEND:20260310T124000Z
SUMMARY:Экономическая культура
LOCATION:16 к. 509
END:VEVENT
BEGIN:VEVENT
UID:l25m@192.168.245.71:3006
SEQUENCE:0
DTSTAMP:20260421T184525Z
DTSTART:20260311T050000Z
DTEND:20260311T064000Z
SUMMARY:Маркетинг
LOCATION:16 к. 503
END:VEVENT
BEGIN:VEVENT
UID:lwzh@192.168.245.71:3006
SEQUENCE:0
DTSTAMP:20260421T184525Z
DTSTART:20260311T070000Z
DTEND:20260311T084000Z
SUMMARY:Математика и статистика
LOCATION:16 к. 513
END:VEVENT
BEGIN:VEVENT
UID:ec9f@192.168.245.71:3006
SEQUENCE:0
DTSTAMP:20260421T184525Z
DTSTART:20260311T110000Z
DTEND:20260311T124000Z
SUMMARY:Маркетинг
LOCATION:16 к. 200
END:VEVENT
BEGIN:VEVENT
UID:5883@192.168.245.71:3006
SEQUENCE:0
DTSTAMP:20260421T184525Z
DTSTART:20260312T090000Z
DTEND:20260312T104000Z
SUMMARY:Цифровые средства обработки данных
LOCATION:16 к. 200
END:VEVENT
BEGIN:VEVENT
UID:yfmw@192.168.245.71:3006
SEQUENCE:0
DTSTAMP:20260421T184525Z
DTSTART:20260312T110000Z
DTEND:20260312T124000Z
SUMMARY:Основы делового общения (на русском языке)
LOCATION:16 к. 515
END:VEVENT
BEGIN:VEVENT
UID:43cb@192.168.245.71:3006
SEQUENCE:0
DTSTAMP:20260421T184525Z
DTSTART:20260312T130000Z
DTEND:20260312T144000Z
SUMMARY:Основы делового общения (на русском языке)
LOCATION:16 к. 515
END:VEVENT
BEGIN:VEVENT
UID:i5p5@192.168.245.71:3006
SEQUENCE:0
DTSTAMP:20260421T184525Z
DTSTART:20260313T050000Z
DTEND:20260313T064000Z
SUMMARY:Элективная физическая культура и спорт
LOCATION:СК Секции
END:VEVENT
BEGIN:VEVENT
UID:tzj3@192.168.245.71:3006
SEQUENCE:0
DTSTAMP:20260421T184525Z
DTSTART:20260313T070000Z
DTEND:20260313T084000Z
SUMMARY:Цифровые средства обработки данных
LOCATION:16 к. 210
END:VEVENT
BEGIN:VEVENT
UID:ut9l@192.168.245.71:3006
SEQUENCE:0
DTSTAMP:20260421T184525Z
DTSTART:20260314T130000Z
DTEND:20260314T144000Z
SUMMARY:Иностранный язык: Русский язык как иностранный
LOCATION:16 к. 214
END:VEVENT
END:VCALENDAR