BEGIN:VCALENDAR
VERSION:2.0
PRODID:-//spbstu.ru//ical//RU
NAME:Расписание группы 3834201/50001
X-WR-CALNAME:Расписание группы 3834201/50001
TIMEZONE-ID:Europe/Moscow
X-WR-TIMEZONE:Europe/Moscow
BEGIN:VEVENT
UID:wxj3@192.168.245.71:3006
SEQUENCE:0
DTSTAMP:20260421T084923Z
DTSTART:20260406T070000Z
DTEND:20260406T084000Z
SUMMARY:История России
LOCATION:16 к. 513
END:VEVENT
BEGIN:VEVENT
UID:7tsi@192.168.245.71:3006
SEQUENCE:0
DTSTAMP:20260421T084923Z
DTSTART:20260406T090000Z
DTEND:20260406T104000Z
SUMMARY:Цифровые средства обработки данных
LOCATION:16 к. 210
END:VEVENT
BEGIN:VEVENT
UID:7s3z@192.168.245.71:3006
SEQUENCE:0
DTSTAMP:20260421T084923Z
DTSTART:20260406T110000Z
DTEND:20260406T124000Z
SUMMARY:Иностранный язык: Базовый курс
LOCATION:16 к. 203
END:VEVENT
BEGIN:VEVENT
UID:bkvv@192.168.245.71:3006
SEQUENCE:0
DTSTAMP:20260421T084923Z
DTSTART:20260407T050000Z
DTEND:20260407T064000Z
SUMMARY:Иностранный язык: Русский язык как иностранный
LOCATION:16 к. 214
END:VEVENT
BEGIN:VEVENT
UID:y1vo@192.168.245.71:3006
SEQUENCE:0
DTSTAMP:20260421T084923Z
DTSTART:20260407T050000Z
DTEND:20260407T064000Z
SUMMARY:Иностранный язык: Русский язык как иностранный
LOCATION:16 к. 214
END:VEVENT
BEGIN:VEVENT
UID:dovb@192.168.245.71:3006
SEQUENCE:0
DTSTAMP:20260421T084923Z
DTSTART:20260407T070000Z
DTEND:20260407T084000Z
SUMMARY:Элективная физическая культура и спорт
LOCATION:СК Секции
END:VEVENT
BEGIN:VEVENT
UID:e28q@192.168.245.71:3006
SEQUENCE:0
DTSTAMP:20260421T084923Z
DTSTART:20260407T090000Z
DTEND:20260407T104000Z
SUMMARY:Межкультурные коммуникации в информационном обществе
LOCATION:16 к. 511
END:VEVENT
BEGIN:VEVENT
UID:puba@192.168.245.71:3006
SEQUENCE:0
DTSTAMP:20260421T084923Z
DTSTART:20260407T110000Z
DTEND:20260407T124000Z
SUMMARY:Экономическая культура
LOCATION:16 к. 509
END:VEVENT
BEGIN:VEVENT
UID:3jb1@192.168.245.71:3006
SEQUENCE:0
DTSTAMP:20260421T084923Z
DTSTART:20260408T050000Z
DTEND:20260408T064000Z
SUMMARY:Маркетинг
LOCATION:16 к. 503
END:VEVENT
BEGIN:VEVENT
UID:zm4j@192.168.245.71:3006
SEQUENCE:0
DTSTAMP:20260421T084923Z
DTSTART:20260408T070000Z
DTEND:20260408T084000Z
SUMMARY:Математика и статистика
LOCATION:16 к. 513
END:VEVENT
BEGIN:VEVENT
UID:ajrl@192.168.245.71:3006
SEQUENCE:0
DTSTAMP:20260421T084923Z
DTSTART:20260408T110000Z
DTEND:20260408T124000Z
SUMMARY:Маркетинг
LOCATION:16 к. 200
END:VEVENT
BEGIN:VEVENT
UID:t4ls@192.168.245.71:3006
SEQUENCE:0
DTSTAMP:20260421T084923Z
DTSTART:20260409T090000Z
DTEND:20260409T104000Z
SUMMARY:Цифровые средства обработки данных
LOCATION:16 к. 200
END:VEVENT
BEGIN:VEVENT
UID:pskc@192.168.245.71:3006
SEQUENCE:0
DTSTAMP:20260421T084923Z
DTSTART:20260409T110000Z
DTEND:20260409T124000Z
SUMMARY:Основы делового общения (на русском языке)
LOCATION:16 к. 515
END:VEVENT
BEGIN:VEVENT
UID:edvb@192.168.245.71:3006
SEQUENCE:0
DTSTAMP:20260421T084923Z
DTSTART:20260409T130000Z
DTEND:20260409T144000Z
SUMMARY:Основы делового общения (на русском языке)
LOCATION:16 к. 515
END:VEVENT
BEGIN:VEVENT
UID:rcyo@192.168.245.71:3006
SEQUENCE:0
DTSTAMP:20260421T084923Z
DTSTART:20260410T050000Z
DTEND:20260410T064000Z
SUMMARY:Элективная физическая культура и спорт
LOCATION:СК Секции
END:VEVENT
BEGIN:VEVENT
UID:hode@192.168.245.71:3006
SEQUENCE:0
DTSTAMP:20260421T084923Z
DTSTART:20260411T130000Z
DTEND:20260411T144000Z
SUMMARY:Иностранный язык: Русский язык как иностранный
LOCATION:16 к. 214
END:VEVENT
END:VCALENDAR