BEGIN:VCALENDAR
VERSION:2.0
PRODID:-//spbstu.ru//ical//RU
NAME:Расписание группы 3834201/50002
X-WR-CALNAME:Расписание группы 3834201/50002
TIMEZONE-ID:Europe/Moscow
X-WR-TIMEZONE:Europe/Moscow
BEGIN:VEVENT
UID:e9k8@192.168.245.71:3006
SEQUENCE:0
DTSTAMP:20260424T145528Z
DTSTART:20251124T110000Z
DTEND:20251124T124000Z
SUMMARY:Введение в профессиональную деятельность
LOCATION:16 к. 200
END:VEVENT
BEGIN:VEVENT
UID:uqkj@192.168.245.71:3006
SEQUENCE:0
DTSTAMP:20260424T145528Z
DTSTART:20251125T070000Z
DTEND:20251125T084000Z
SUMMARY:Элективная физическая культура и спорт
LOCATION:СК Секции
END:VEVENT
BEGIN:VEVENT
UID:z7g6@192.168.245.71:3006
SEQUENCE:0
DTSTAMP:20260424T145528Z
DTSTART:20251125T090000Z
DTEND:20251125T104000Z
SUMMARY:Иностранный язык: Базовый курс
LOCATION:16 к. 514
END:VEVENT
BEGIN:VEVENT
UID:m6vl@192.168.245.71:3006
SEQUENCE:0
DTSTAMP:20260424T145528Z
DTSTART:20251125T110000Z
DTEND:20251125T124000Z
SUMMARY:Концепции современного естествознания
LOCATION:16 к. 513
END:VEVENT
BEGIN:VEVENT
UID:x44r@192.168.245.71:3006
SEQUENCE:0
DTSTAMP:20260424T145528Z
DTSTART:20251126T050000Z
DTEND:20251126T064000Z
SUMMARY:Иностранный язык: Русский язык как иностранный
LOCATION:9 к. 212
END:VEVENT
BEGIN:VEVENT
UID:id66@192.168.245.71:3006
SEQUENCE:0
DTSTAMP:20260424T145528Z
DTSTART:20251126T110000Z
DTEND:20251126T124000Z
SUMMARY:Математика и статистика
LOCATION:16 к. 501
END:VEVENT
BEGIN:VEVENT
UID:gbaj@192.168.245.71:3006
SEQUENCE:0
DTSTAMP:20260424T145528Z
DTSTART:20251126T130000Z
DTEND:20251126T144000Z
SUMMARY:Современный русский язык
LOCATION:16 к. 200
END:VEVENT
BEGIN:VEVENT
UID:nib5@192.168.245.71:3006
SEQUENCE:0
DTSTAMP:20260424T145528Z
DTSTART:20251127T050000Z
DTEND:20251127T064000Z
SUMMARY:Иностранный язык: Русский язык как иностранный
LOCATION:9 к. 212
END:VEVENT
BEGIN:VEVENT
UID:o6ty@192.168.245.71:3006
SEQUENCE:0
DTSTAMP:20260424T145528Z
DTSTART:20251127T070000Z
DTEND:20251127T084000Z
SUMMARY:Основы российской государственности
LOCATION:16 к. 515
END:VEVENT
BEGIN:VEVENT
UID:gw59@192.168.245.71:3006
SEQUENCE:0
DTSTAMP:20260424T145528Z
DTSTART:20251127T090000Z
DTEND:20251127T104000Z
SUMMARY:Современный русский язык
LOCATION:16 к. 211
END:VEVENT
BEGIN:VEVENT
UID:ktpa@192.168.245.71:3006
SEQUENCE:0
DTSTAMP:20260424T145528Z
DTSTART:20251127T110000Z
DTEND:20251127T124000Z
SUMMARY:Математика и статистика
LOCATION:16 к. 200
END:VEVENT
BEGIN:VEVENT
UID:ccn9@192.168.245.71:3006
SEQUENCE:0
DTSTAMP:20260424T145528Z
DTSTART:20251128T050000Z
DTEND:20251128T064000Z
SUMMARY:Элективная физическая культура и спорт
LOCATION:СК Секции
END:VEVENT
BEGIN:VEVENT
UID:8ivo@192.168.245.71:3006
SEQUENCE:0
DTSTAMP:20260424T145528Z
DTSTART:20251128T070000Z
DTEND:20251128T084000Z
SUMMARY:История России
LOCATION:16 к. 200
END:VEVENT
BEGIN:VEVENT
UID:vtxr@192.168.245.71:3006
SEQUENCE:0
DTSTAMP:20260424T145528Z
DTSTART:20251128T090000Z
DTEND:20251128T104000Z
SUMMARY:Психология
LOCATION:16 к. 523
END:VEVENT
BEGIN:VEVENT
UID:2l1q@192.168.245.71:3006
SEQUENCE:0
DTSTAMP:20260424T145528Z
DTSTART:20251128T110000Z
DTEND:20251128T124000Z
SUMMARY:История России
LOCATION:16 к. 110
END:VEVENT
END:VCALENDAR