BEGIN:VCALENDAR
VERSION:2.0
PRODID:-//spbstu.ru//ical//RU
NAME:Расписание группы 3834201/50002
X-WR-CALNAME:Расписание группы 3834201/50002
TIMEZONE-ID:Europe/Moscow
X-WR-TIMEZONE:Europe/Moscow
BEGIN:VEVENT
UID:851s@192.168.245.71:3006
SEQUENCE:0
DTSTAMP:20260423T220315Z
DTSTART:20251215T070000Z
DTEND:20251215T084000Z
SUMMARY:Права человека
LOCATION:ГЗ 256
END:VEVENT
BEGIN:VEVENT
UID:v8vx@192.168.245.71:3006
SEQUENCE:0
DTSTAMP:20260423T220315Z
DTSTART:20251215T090000Z
DTEND:20251215T104000Z
SUMMARY:Основы цифровых технологий
LOCATION:16 к. 215
END:VEVENT
BEGIN:VEVENT
UID:eept@192.168.245.71:3006
SEQUENCE:0
DTSTAMP:20260423T220315Z
DTSTART:20251215T110000Z
DTEND:20251215T124000Z
SUMMARY:Введение в профессиональную деятельность
LOCATION:16 к. 200
END:VEVENT
BEGIN:VEVENT
UID:shzo@192.168.245.71:3006
SEQUENCE:0
DTSTAMP:20260423T220315Z
DTSTART:20251216T090000Z
DTEND:20251216T104000Z
SUMMARY:Иностранный язык: Базовый курс
LOCATION:16 к. 514
END:VEVENT
BEGIN:VEVENT
UID:1tq5@192.168.245.71:3006
SEQUENCE:0
DTSTAMP:20260423T220315Z
DTSTART:20251217T070000Z
DTEND:20251217T090000Z
SUMMARY:Иностранный язык: Базовый курс
LOCATION:16 к. 503
END:VEVENT
BEGIN:VEVENT
UID:r34c@192.168.245.71:3006
SEQUENCE:0
DTSTAMP:20260423T220315Z
DTSTART:20251217T070000Z
DTEND:20251217T082000Z
SUMMARY:Иностранный язык: Русский язык как иностранный
LOCATION:16 к. 213
END:VEVENT
BEGIN:VEVENT
UID:jf5u@192.168.245.71:3006
SEQUENCE:0
DTSTAMP:20260423T220315Z
DTSTART:20251217T150000Z
DTEND:20251217T154500Z
SUMMARY:Психология
LOCATION:16 к. 400
END:VEVENT
BEGIN:VEVENT
UID:0z3q@192.168.245.71:3006
SEQUENCE:0
DTSTAMP:20260423T220315Z
DTSTART:20251218T100000Z
DTEND:20251218T104500Z
SUMMARY:Права человека
LOCATION:16 к. 200
END:VEVENT
BEGIN:VEVENT
UID:29co@192.168.245.71:3006
SEQUENCE:0
DTSTAMP:20260423T220315Z
DTSTART:20251218T110000Z
DTEND:20251218T122000Z
SUMMARY:Основы цифровых технологий
LOCATION:16 к. 215
END:VEVENT
END:VCALENDAR