BEGIN:VCALENDAR
VERSION:2.0
PRODID:-//spbstu.ru//ical//RU
NAME:Расписание группы 3834201/50002
X-WR-CALNAME:Расписание группы 3834201/50002
TIMEZONE-ID:Europe/Moscow
X-WR-TIMEZONE:Europe/Moscow
BEGIN:VEVENT
UID:j0mu@192.168.245.71:3006
SEQUENCE:0
DTSTAMP:20260421T084842Z
DTSTART:20260504T070000Z
DTEND:20260504T084000Z
SUMMARY:Основы делового общения (на русском языке)
LOCATION:16 к. 511
END:VEVENT
BEGIN:VEVENT
UID:410m@192.168.245.71:3006
SEQUENCE:0
DTSTAMP:20260421T084842Z
DTSTART:20260504T090000Z
DTEND:20260504T104000Z
SUMMARY:Основы делового общения (на русском языке)
LOCATION:16 к. 511
END:VEVENT
BEGIN:VEVENT
UID:rgce@192.168.245.71:3006
SEQUENCE:0
DTSTAMP:20260421T084842Z
DTSTART:20260504T110000Z
DTEND:20260504T124000Z
SUMMARY:Цифровые средства обработки данных
LOCATION:16 к. 210
END:VEVENT
BEGIN:VEVENT
UID:3895@192.168.245.71:3006
SEQUENCE:0
DTSTAMP:20260421T084842Z
DTSTART:20260505T050000Z
DTEND:20260505T064000Z
SUMMARY:Иностранный язык: Русский язык как иностранный
LOCATION:16 к. 214
END:VEVENT
BEGIN:VEVENT
UID:50gn@192.168.245.71:3006
SEQUENCE:0
DTSTAMP:20260421T084842Z
DTSTART:20260505T050000Z
DTEND:20260505T064000Z
SUMMARY:Иностранный язык: Русский язык как иностранный
LOCATION:16 к. 214
END:VEVENT
BEGIN:VEVENT
UID:ajb0@192.168.245.71:3006
SEQUENCE:0
DTSTAMP:20260421T084842Z
DTSTART:20260505T070000Z
DTEND:20260505T084000Z
SUMMARY:Элективная физическая культура и спорт
LOCATION:СК Секции
END:VEVENT
BEGIN:VEVENT
UID:vowe@192.168.245.71:3006
SEQUENCE:0
DTSTAMP:20260421T084842Z
DTSTART:20260505T110000Z
DTEND:20260505T124000Z
SUMMARY:Межкультурные коммуникации в информационном обществе
LOCATION:16 к. 511
END:VEVENT
BEGIN:VEVENT
UID:zjjm@192.168.245.71:3006
SEQUENCE:0
DTSTAMP:20260421T084842Z
DTSTART:20260506T070000Z
DTEND:20260506T084000Z
SUMMARY:Маркетинг
LOCATION:16 к. 503
END:VEVENT
BEGIN:VEVENT
UID:zgs5@192.168.245.71:3006
SEQUENCE:0
DTSTAMP:20260421T084842Z
DTSTART:20260506T110000Z
DTEND:20260506T124000Z
SUMMARY:Маркетинг
LOCATION:16 к. 200
END:VEVENT
BEGIN:VEVENT
UID:9azx@192.168.245.71:3006
SEQUENCE:0
DTSTAMP:20260421T084842Z
DTSTART:20260507T070000Z
DTEND:20260507T084000Z
SUMMARY:Иностранный язык: Базовый курс
LOCATION:16 к. 214
END:VEVENT
BEGIN:VEVENT
UID:jts3@192.168.245.71:3006
SEQUENCE:0
DTSTAMP:20260421T084842Z
DTSTART:20260507T090000Z
DTEND:20260507T104000Z
SUMMARY:Цифровые средства обработки данных
LOCATION:16 к. 200
END:VEVENT
BEGIN:VEVENT
UID:xuip@192.168.245.71:3006
SEQUENCE:0
DTSTAMP:20260421T084842Z
DTSTART:20260507T110000Z
DTEND:20260507T124000Z
SUMMARY:Математика и статистика
LOCATION:16 к. 506
END:VEVENT
BEGIN:VEVENT
UID:fxz4@192.168.245.71:3006
SEQUENCE:0
DTSTAMP:20260421T084842Z
DTSTART:20260508T050000Z
DTEND:20260508T064000Z
SUMMARY:Элективная физическая культура и спорт
LOCATION:СК Секции
END:VEVENT
END:VCALENDAR