BEGIN:VCALENDAR
VERSION:2.0
PRODID:-//spbstu.ru//ical//RU
NAME:Расписание группы 3834201/50004
X-WR-CALNAME:Расписание группы 3834201/50004
TIMEZONE-ID:Europe/Moscow
X-WR-TIMEZONE:Europe/Moscow
BEGIN:VEVENT
UID:mkol@192.168.245.71:3006
SEQUENCE:0
DTSTAMP:20260423T190237Z
DTSTART:20251103T090000Z
DTEND:20251103T104000Z
SUMMARY:История России
LOCATION:16 к. 523
END:VEVENT
BEGIN:VEVENT
UID:dzyn@192.168.245.71:3006
SEQUENCE:0
DTSTAMP:20260423T190237Z
DTSTART:20251103T110000Z
DTEND:20251103T124000Z
SUMMARY:Введение в профессиональную деятельность
LOCATION:16 к. 200
END:VEVENT
BEGIN:VEVENT
UID:pzkr@192.168.245.71:3006
SEQUENCE:0
DTSTAMP:20260423T190237Z
DTSTART:20251105T050000Z
DTEND:20251105T064000Z
SUMMARY:Иностранный язык: Русский язык как иностранный
LOCATION:9 к. 212
END:VEVENT
BEGIN:VEVENT
UID:9jab@192.168.245.71:3006
SEQUENCE:0
DTSTAMP:20260423T190237Z
DTSTART:20251105T130000Z
DTEND:20251105T144000Z
SUMMARY:Современный русский язык
LOCATION:16 к. 200
END:VEVENT
BEGIN:VEVENT
UID:ayop@192.168.245.71:3006
SEQUENCE:0
DTSTAMP:20260423T190237Z
DTSTART:20251106T050000Z
DTEND:20251106T064000Z
SUMMARY:Иностранный язык: Русский язык как иностранный
LOCATION:9 к. 212
END:VEVENT
BEGIN:VEVENT
UID:u919@192.168.245.71:3006
SEQUENCE:0
DTSTAMP:20260423T190237Z
DTSTART:20251106T090000Z
DTEND:20251106T104000Z
SUMMARY:Математика и статистика
LOCATION:16 к. 410
END:VEVENT
BEGIN:VEVENT
UID:wx5d@192.168.245.71:3006
SEQUENCE:0
DTSTAMP:20260423T190237Z
DTSTART:20251106T110000Z
DTEND:20251106T124000Z
SUMMARY:Права человека
LOCATION:16 к. 200
END:VEVENT
BEGIN:VEVENT
UID:5bik@192.168.245.71:3006
SEQUENCE:0
DTSTAMP:20260423T190237Z
DTSTART:20251106T130000Z
DTEND:20251106T144000Z
SUMMARY:Творческие семестры
LOCATION:ГЗ Белый зал
END:VEVENT
BEGIN:VEVENT
UID:dv6h@192.168.245.71:3006
SEQUENCE:0
DTSTAMP:20260423T190237Z
DTSTART:20251107T050000Z
DTEND:20251107T064000Z
SUMMARY:Элективная физическая культура и спорт
LOCATION:СК Секции
END:VEVENT
BEGIN:VEVENT
UID:42b5@192.168.245.71:3006
SEQUENCE:0
DTSTAMP:20260423T190237Z
DTSTART:20251107T070000Z
DTEND:20251107T084000Z
SUMMARY:Основы российской государственности
LOCATION:16 к. 200
END:VEVENT
BEGIN:VEVENT
UID:ugqs@192.168.245.71:3006
SEQUENCE:0
DTSTAMP:20260423T190237Z
DTSTART:20251107T090000Z
DTEND:20251107T104000Z
SUMMARY:Современный русский язык
LOCATION:16 к. 514
END:VEVENT
BEGIN:VEVENT
UID:lom7@192.168.245.71:3006
SEQUENCE:0
DTSTAMP:20260423T190237Z
DTSTART:20251107T110000Z
DTEND:20251107T124000Z
SUMMARY:Основы российской государственности
LOCATION:16 к. 214
END:VEVENT
BEGIN:VEVENT
UID:j17e@192.168.245.71:3006
SEQUENCE:0
DTSTAMP:20260423T190237Z
DTSTART:20251107T130000Z
DTEND:20251107T144000Z
SUMMARY:Права человека
LOCATION:16 к. 510
END:VEVENT
END:VCALENDAR