BEGIN:VCALENDAR
VERSION:2.0
PRODID:-//spbstu.ru//ical//RU
NAME:Расписание группы 3834201/50004
X-WR-CALNAME:Расписание группы 3834201/50004
TIMEZONE-ID:Europe/Moscow
X-WR-TIMEZONE:Europe/Moscow
BEGIN:VEVENT
UID:b98t@192.168.245.71:3006
SEQUENCE:0
DTSTAMP:20260423T191914Z
DTSTART:20251208T070000Z
DTEND:20251208T084000Z
SUMMARY:Основы цифровых технологий
LOCATION:16 к. 215
END:VEVENT
BEGIN:VEVENT
UID:nsj3@192.168.245.71:3006
SEQUENCE:0
DTSTAMP:20260423T191914Z
DTSTART:20251208T090000Z
DTEND:20251208T104000Z
SUMMARY:Введение в профессиональную деятельность
LOCATION:16 к. 514
END:VEVENT
BEGIN:VEVENT
UID:i7mp@192.168.245.71:3006
SEQUENCE:0
DTSTAMP:20260423T191914Z
DTSTART:20251208T110000Z
DTEND:20251208T124000Z
SUMMARY:Введение в профессиональную деятельность
LOCATION:16 к. 200
END:VEVENT
BEGIN:VEVENT
UID:14re@192.168.245.71:3006
SEQUENCE:0
DTSTAMP:20260423T191914Z
DTSTART:20251208T130000Z
DTEND:20251208T144000Z
SUMMARY:Концепции современного естествознания
LOCATION:16 к. 214
END:VEVENT
BEGIN:VEVENT
UID:soy0@192.168.245.71:3006
SEQUENCE:0
DTSTAMP:20260423T191914Z
DTSTART:20251209T070000Z
DTEND:20251209T084000Z
SUMMARY:Элективная физическая культура и спорт
LOCATION:СК Секции
END:VEVENT
BEGIN:VEVENT
UID:tcbf@192.168.245.71:3006
SEQUENCE:0
DTSTAMP:20260423T191914Z
DTSTART:20251209T110000Z
DTEND:20251209T124000Z
SUMMARY:Иностранный язык: Базовый курс
LOCATION:ГЗ 212
END:VEVENT
BEGIN:VEVENT
UID:ljef@192.168.245.71:3006
SEQUENCE:0
DTSTAMP:20260423T191914Z
DTSTART:20251209T150000Z
DTEND:20251209T164000Z
SUMMARY:Психология
LOCATION:16 к. 200
END:VEVENT
BEGIN:VEVENT
UID:ws0v@192.168.245.71:3006
SEQUENCE:0
DTSTAMP:20260423T191914Z
DTSTART:20251210T050000Z
DTEND:20251210T064000Z
SUMMARY:Иностранный язык: Русский язык как иностранный
LOCATION:9 к. 212
END:VEVENT
BEGIN:VEVENT
UID:v4y1@192.168.245.71:3006
SEQUENCE:0
DTSTAMP:20260423T191914Z
DTSTART:20251210T070000Z
DTEND:20251210T084000Z
SUMMARY:Основы цифровых технологий
LOCATION:16 к. 510
END:VEVENT
BEGIN:VEVENT
UID:tqvs@192.168.245.71:3006
SEQUENCE:0
DTSTAMP:20260423T191914Z
DTSTART:20251210T130000Z
DTEND:20251210T144000Z
SUMMARY:Современный русский язык
LOCATION:16 к. 200
END:VEVENT
BEGIN:VEVENT
UID:3z3f@192.168.245.71:3006
SEQUENCE:0
DTSTAMP:20260423T191914Z
DTSTART:20251211T050000Z
DTEND:20251211T064000Z
SUMMARY:Иностранный язык: Русский язык как иностранный
LOCATION:9 к. 212
END:VEVENT
BEGIN:VEVENT
UID:ssji@192.168.245.71:3006
SEQUENCE:0
DTSTAMP:20260423T191914Z
DTSTART:20251211T070000Z
DTEND:20251211T084000Z
SUMMARY:Права человека
LOCATION:16 к. 214
END:VEVENT
BEGIN:VEVENT
UID:kzlc@192.168.245.71:3006
SEQUENCE:0
DTSTAMP:20260423T191914Z
DTSTART:20251211T090000Z
DTEND:20251211T104000Z
SUMMARY:Математика и статистика
LOCATION:16 к. 410
END:VEVENT
BEGIN:VEVENT
UID:iw36@192.168.245.71:3006
SEQUENCE:0
DTSTAMP:20260423T191914Z
DTSTART:20251211T110000Z
DTEND:20251211T124000Z
SUMMARY:Математика и статистика
LOCATION:16 к. 200
END:VEVENT
BEGIN:VEVENT
UID:wxn9@192.168.245.71:3006
SEQUENCE:0
DTSTAMP:20260423T191914Z
DTSTART:20251212T050000Z
DTEND:20251212T064000Z
SUMMARY:Элективная физическая культура и спорт
LOCATION:СК Секции
END:VEVENT
BEGIN:VEVENT
UID:13ds@192.168.245.71:3006
SEQUENCE:0
DTSTAMP:20260423T191914Z
DTSTART:20251212T070000Z
DTEND:20251212T084000Z
SUMMARY:История России
LOCATION:16 к. 200
END:VEVENT
BEGIN:VEVENT
UID:e5t9@192.168.245.71:3006
SEQUENCE:0
DTSTAMP:20260423T191914Z
DTSTART:20251212T090000Z
DTEND:20251212T104000Z
SUMMARY:Современный русский язык
LOCATION:16 к. 514
END:VEVENT
BEGIN:VEVENT
UID:3595@192.168.245.71:3006
SEQUENCE:0
DTSTAMP:20260423T191914Z
DTSTART:20251212T110000Z
DTEND:20251212T124000Z
SUMMARY:Основы российской государственности
LOCATION:16 к. 214
END:VEVENT
END:VCALENDAR