BEGIN:VCALENDAR
VERSION:2.0
PRODID:-//spbstu.ru//ical//RU
NAME:Расписание группы 3834201/50004
X-WR-CALNAME:Расписание группы 3834201/50004
TIMEZONE-ID:Europe/Moscow
X-WR-TIMEZONE:Europe/Moscow
BEGIN:VEVENT
UID:fcyg@192.168.245.71:3006
SEQUENCE:0
DTSTAMP:20260424T235103Z
DTSTART:20250908T050000Z
DTEND:20250908T064000Z
SUMMARY:Философия
LOCATION:16 к. 200
END:VEVENT
BEGIN:VEVENT
UID:dt70@192.168.245.71:3006
SEQUENCE:0
DTSTAMP:20260424T235103Z
DTSTART:20250908T090000Z
DTEND:20250908T104000Z
SUMMARY:История России
LOCATION:16 к. 523
END:VEVENT
BEGIN:VEVENT
UID:b3ii@192.168.245.71:3006
SEQUENCE:0
DTSTAMP:20260424T235103Z
DTSTART:20250908T110000Z
DTEND:20250908T124000Z
SUMMARY:Введение в профессиональную деятельность
LOCATION:16 к. 200
END:VEVENT
BEGIN:VEVENT
UID:wmqw@192.168.245.71:3006
SEQUENCE:0
DTSTAMP:20260424T235103Z
DTSTART:20250909T050000Z
DTEND:20250909T064000Z
SUMMARY:Иностранный язык: Базовый курс
LOCATION:16 к. 513
END:VEVENT
BEGIN:VEVENT
UID:c65i@192.168.245.71:3006
SEQUENCE:0
DTSTAMP:20260424T235103Z
DTSTART:20250909T070000Z
DTEND:20250909T074500Z
SUMMARY:Элективная физическая культура и спорт
LOCATION:ГЗ Белый зал
END:VEVENT
BEGIN:VEVENT
UID:vgpv@192.168.245.71:3006
SEQUENCE:0
DTSTAMP:20260424T235103Z
DTSTART:20250910T050000Z
DTEND:20250910T064000Z
SUMMARY:Иностранный язык: Русский язык как иностранный
LOCATION:9 к. 212
END:VEVENT
BEGIN:VEVENT
UID:ug1j@192.168.245.71:3006
SEQUENCE:0
DTSTAMP:20260424T235103Z
DTSTART:20250910T130000Z
DTEND:20250910T144000Z
SUMMARY:Современный русский язык
LOCATION:16 к. 200
END:VEVENT
BEGIN:VEVENT
UID:ryus@192.168.245.71:3006
SEQUENCE:0
DTSTAMP:20260424T235103Z
DTSTART:20250911T050000Z
DTEND:20250911T064000Z
SUMMARY:Иностранный язык: Русский язык как иностранный
LOCATION:9 к. 212
END:VEVENT
BEGIN:VEVENT
UID:9ud2@192.168.245.71:3006
SEQUENCE:0
DTSTAMP:20260424T235103Z
DTSTART:20250911T090000Z
DTEND:20250911T104000Z
SUMMARY:Математика и статистика
LOCATION:16 к. 410
END:VEVENT
BEGIN:VEVENT
UID:glr4@192.168.245.71:3006
SEQUENCE:0
DTSTAMP:20260424T235103Z
DTSTART:20250911T110000Z
DTEND:20250911T124000Z
SUMMARY:Права человека
LOCATION:16 к. 200
END:VEVENT
BEGIN:VEVENT
UID:31xk@192.168.245.71:3006
SEQUENCE:0
DTSTAMP:20260424T235103Z
DTSTART:20250911T130000Z
DTEND:20250911T144000Z
SUMMARY:Творческие семестры
LOCATION:ГЗ Белый зал
END:VEVENT
BEGIN:VEVENT
UID:3z31@192.168.245.71:3006
SEQUENCE:0
DTSTAMP:20260424T235103Z
DTSTART:20250912T050000Z
DTEND:20250912T064000Z
SUMMARY:Элективная физическая культура и спорт
LOCATION:СК Секции
END:VEVENT
BEGIN:VEVENT
UID:bb8m@192.168.245.71:3006
SEQUENCE:0
DTSTAMP:20260424T235103Z
DTSTART:20250912T070000Z
DTEND:20250912T084000Z
SUMMARY:Основы российской государственности
LOCATION:16 к. 200
END:VEVENT
BEGIN:VEVENT
UID:um35@192.168.245.71:3006
SEQUENCE:0
DTSTAMP:20260424T235103Z
DTSTART:20250912T090000Z
DTEND:20250912T104000Z
SUMMARY:Современный русский язык
LOCATION:16 к. 514
END:VEVENT
BEGIN:VEVENT
UID:xvez@192.168.245.71:3006
SEQUENCE:0
DTSTAMP:20260424T235103Z
DTSTART:20250912T110000Z
DTEND:20250912T124000Z
SUMMARY:Основы российской государственности
LOCATION:16 к. 214
END:VEVENT
BEGIN:VEVENT
UID:colm@192.168.245.71:3006
SEQUENCE:0
DTSTAMP:20260424T235103Z
DTSTART:20250912T130000Z
DTEND:20250912T144000Z
SUMMARY:Права человека
LOCATION:16 к. 510
END:VEVENT
END:VCALENDAR