BEGIN:VCALENDAR
VERSION:2.0
PRODID:-//spbstu.ru//ical//RU
NAME:Расписание группы 3834201/50004
X-WR-CALNAME:Расписание группы 3834201/50004
TIMEZONE-ID:Europe/Moscow
X-WR-TIMEZONE:Europe/Moscow
BEGIN:VEVENT
UID:q89b@192.168.245.71:3006
SEQUENCE:0
DTSTAMP:20260421T051646Z
DTSTART:20260428T050000Z
DTEND:20260428T064000Z
SUMMARY:Иностранный язык: Русский язык как иностранный
LOCATION:16 к. 214
END:VEVENT
BEGIN:VEVENT
UID:mitk@192.168.245.71:3006
SEQUENCE:0
DTSTAMP:20260421T051646Z
DTSTART:20260428T050000Z
DTEND:20260428T064000Z
SUMMARY:Иностранный язык: Русский язык как иностранный
LOCATION:16 к. 214
END:VEVENT
BEGIN:VEVENT
UID:9cuu@192.168.245.71:3006
SEQUENCE:0
DTSTAMP:20260421T051646Z
DTSTART:20260428T070000Z
DTEND:20260428T084000Z
SUMMARY:Элективная физическая культура и спорт
LOCATION:СК Секции
END:VEVENT
BEGIN:VEVENT
UID:nrap@192.168.245.71:3006
SEQUENCE:0
DTSTAMP:20260421T051646Z
DTSTART:20260428T090000Z
DTEND:20260428T104000Z
SUMMARY:Основы делового общения (на русском языке)
LOCATION:16 к. 209
END:VEVENT
BEGIN:VEVENT
UID:7ci8@192.168.245.71:3006
SEQUENCE:0
DTSTAMP:20260421T051646Z
DTSTART:20260428T110000Z
DTEND:20260428T124000Z
SUMMARY:Теория коммуникации
LOCATION:16 к. 400
END:VEVENT
BEGIN:VEVENT
UID:gb4u@192.168.245.71:3006
SEQUENCE:0
DTSTAMP:20260421T051646Z
DTSTART:20260428T130000Z
DTEND:20260428T144000Z
SUMMARY:Иностранный язык: Базовый курс
LOCATION:16 к. 521
END:VEVENT
BEGIN:VEVENT
UID:c4vk@192.168.245.71:3006
SEQUENCE:0
DTSTAMP:20260421T051646Z
DTSTART:20260428T150000Z
DTEND:20260428T164000Z
SUMMARY:Межкультурные коммуникации в информационном обществе
LOCATION:16 к. 400
END:VEVENT
BEGIN:VEVENT
UID:mgrg@192.168.245.71:3006
SEQUENCE:0
DTSTAMP:20260421T051646Z
DTSTART:20260429T090000Z
DTEND:20260429T104000Z
SUMMARY:Теория коммуникации
LOCATION:16 к. 211
END:VEVENT
BEGIN:VEVENT
UID:5iei@192.168.245.71:3006
SEQUENCE:0
DTSTAMP:20260421T051646Z
DTSTART:20260429T110000Z
DTEND:20260429T124000Z
SUMMARY:Маркетинг
LOCATION:16 к. 200
END:VEVENT
BEGIN:VEVENT
UID:c20y@192.168.245.71:3006
SEQUENCE:0
DTSTAMP:20260421T051646Z
DTSTART:20260429T130000Z
DTEND:20260429T144000Z
SUMMARY:Маркетинг
LOCATION:16 к. 506
END:VEVENT
BEGIN:VEVENT
UID:e156@192.168.245.71:3006
SEQUENCE:0
DTSTAMP:20260421T051646Z
DTSTART:20260430T090000Z
DTEND:20260430T104000Z
SUMMARY:История России
LOCATION:16 к. 200
END:VEVENT
BEGIN:VEVENT
UID:dbcf@192.168.245.71:3006
SEQUENCE:0
DTSTAMP:20260421T051646Z
DTSTART:20260430T110000Z
DTEND:20260430T124000Z
SUMMARY:Цифровые средства обработки данных
LOCATION:16 к. 110
END:VEVENT
BEGIN:VEVENT
UID:ipzf@192.168.245.71:3006
SEQUENCE:0
DTSTAMP:20260421T051646Z
DTSTART:20260430T130000Z
DTEND:20260430T144000Z
SUMMARY:Математика и статистика
LOCATION:16 к. 506
END:VEVENT
BEGIN:VEVENT
UID:p5p6@192.168.245.71:3006
SEQUENCE:0
DTSTAMP:20260421T051646Z
DTSTART:20260502T130000Z
DTEND:20260502T144000Z
SUMMARY:Иностранный язык: Русский язык как иностранный
LOCATION:16 к. 214
END:VEVENT
END:VCALENDAR