BEGIN:VCALENDAR
VERSION:2.0
PRODID:-//spbstu.ru//ical//RU
NAME:Расписание группы 3834201/50004
X-WR-CALNAME:Расписание группы 3834201/50004
TIMEZONE-ID:Europe/Moscow
X-WR-TIMEZONE:Europe/Moscow
BEGIN:VEVENT
UID:xpcg@192.168.245.71:3006
SEQUENCE:0
DTSTAMP:20260421T070721Z
DTSTART:20260505T050000Z
DTEND:20260505T064000Z
SUMMARY:Иностранный язык: Русский язык как иностранный
LOCATION:16 к. 214
END:VEVENT
BEGIN:VEVENT
UID:lqtx@192.168.245.71:3006
SEQUENCE:0
DTSTAMP:20260421T070721Z
DTSTART:20260505T050000Z
DTEND:20260505T064000Z
SUMMARY:Иностранный язык: Русский язык как иностранный
LOCATION:16 к. 214
END:VEVENT
BEGIN:VEVENT
UID:s5k5@192.168.245.71:3006
SEQUENCE:0
DTSTAMP:20260421T070721Z
DTSTART:20260505T070000Z
DTEND:20260505T084000Z
SUMMARY:Элективная физическая культура и спорт
LOCATION:СК Секции
END:VEVENT
BEGIN:VEVENT
UID:q6mo@192.168.245.71:3006
SEQUENCE:0
DTSTAMP:20260421T070721Z
DTSTART:20260505T090000Z
DTEND:20260505T104000Z
SUMMARY:Основы делового общения (на русском языке)
LOCATION:16 к. 209
END:VEVENT
BEGIN:VEVENT
UID:mw0a@192.168.245.71:3006
SEQUENCE:0
DTSTAMP:20260421T070721Z
DTSTART:20260505T130000Z
DTEND:20260505T144000Z
SUMMARY:Иностранный язык: Базовый курс
LOCATION:16 к. 521
END:VEVENT
BEGIN:VEVENT
UID:8god@192.168.245.71:3006
SEQUENCE:0
DTSTAMP:20260421T070721Z
DTSTART:20260506T110000Z
DTEND:20260506T124000Z
SUMMARY:Маркетинг
LOCATION:16 к. 200
END:VEVENT
BEGIN:VEVENT
UID:qjvp@192.168.245.71:3006
SEQUENCE:0
DTSTAMP:20260421T070721Z
DTSTART:20260506T130000Z
DTEND:20260506T144000Z
SUMMARY:Маркетинг
LOCATION:16 к. 506
END:VEVENT
BEGIN:VEVENT
UID:amoy@192.168.245.71:3006
SEQUENCE:0
DTSTAMP:20260421T070721Z
DTSTART:20260507T090000Z
DTEND:20260507T104000Z
SUMMARY:Цифровые средства обработки данных
LOCATION:16 к. 200
END:VEVENT
BEGIN:VEVENT
UID:q4ww@192.168.245.71:3006
SEQUENCE:0
DTSTAMP:20260421T070721Z
DTSTART:20260507T110000Z
DTEND:20260507T124000Z
SUMMARY:Цифровые средства обработки данных
LOCATION:16 к. 110
END:VEVENT
BEGIN:VEVENT
UID:irig@192.168.245.71:3006
SEQUENCE:0
DTSTAMP:20260421T070721Z
DTSTART:20260507T130000Z
DTEND:20260507T144000Z
SUMMARY:Математика и статистика
LOCATION:16 к. 506
END:VEVENT
BEGIN:VEVENT
UID:jo5a@192.168.245.71:3006
SEQUENCE:0
DTSTAMP:20260421T070721Z
DTSTART:20260508T050000Z
DTEND:20260508T064000Z
SUMMARY:Элективная физическая культура и спорт
LOCATION:СК Секции
END:VEVENT
BEGIN:VEVENT
UID:jr2c@192.168.245.71:3006
SEQUENCE:0
DTSTAMP:20260421T070721Z
DTSTART:20260508T070000Z
DTEND:20260508T084000Z
SUMMARY:Межкультурные коммуникации в информационном обществе
LOCATION:16 к. 506
END:VEVENT
BEGIN:VEVENT
UID:tkt4@192.168.245.71:3006
SEQUENCE:0
DTSTAMP:20260421T070721Z
DTSTART:20260508T090000Z
DTEND:20260508T104000Z
SUMMARY:Основы делового общения (на русском языке)
LOCATION:16 к. 215
END:VEVENT
END:VCALENDAR