BEGIN:VCALENDAR
VERSION:2.0
PRODID:-//spbstu.ru//ical//RU
NAME:Расписание группы 3834203/50001
X-WR-CALNAME:Расписание группы 3834203/50001
TIMEZONE-ID:Europe/Moscow
X-WR-TIMEZONE:Europe/Moscow
BEGIN:VEVENT
UID:vibz@192.168.245.71:3006
SEQUENCE:0
DTSTAMP:20260421T135048Z
DTSTART:20260330T110000Z
DTEND:20260330T124000Z
SUMMARY:История России
LOCATION:16 к. 513
END:VEVENT
BEGIN:VEVENT
UID:c9xc@192.168.245.71:3006
SEQUENCE:0
DTSTAMP:20260421T135048Z
DTSTART:20260330T130000Z
DTEND:20260330T144000Z
SUMMARY:Цифровые средства обработки данных
LOCATION:16 к. 210
END:VEVENT
BEGIN:VEVENT
UID:4ce4@192.168.245.71:3006
SEQUENCE:0
DTSTAMP:20260421T135048Z
DTSTART:20260331T070000Z
DTEND:20260331T084000Z
SUMMARY:Элективная физическая культура и спорт
LOCATION:СК Секции
END:VEVENT
BEGIN:VEVENT
UID:187q@192.168.245.71:3006
SEQUENCE:0
DTSTAMP:20260421T135048Z
DTSTART:20260331T090000Z
DTEND:20260331T104000Z
SUMMARY:Практическое редактирование
LOCATION:16 к. 203
END:VEVENT
BEGIN:VEVENT
UID:7dmv@192.168.245.71:3006
SEQUENCE:0
DTSTAMP:20260421T135048Z
DTSTART:20260331T110000Z
DTEND:20260331T124000Z
SUMMARY:Архитектоника издания
LOCATION:16 к. 215
END:VEVENT
BEGIN:VEVENT
UID:669f@192.168.245.71:3006
SEQUENCE:0
DTSTAMP:20260421T135048Z
DTSTART:20260331T150000Z
DTEND:20260331T164000Z
SUMMARY:Межкультурные коммуникации в информационном обществе
LOCATION:16 к. 400
END:VEVENT
BEGIN:VEVENT
UID:raxk@192.168.245.71:3006
SEQUENCE:0
DTSTAMP:20260421T135048Z
DTSTART:20260401T150000Z
DTEND:20260401T154500Z
SUMMARY:Концепции современного естествознания
LOCATION:ГЗ 283
END:VEVENT
BEGIN:VEVENT
UID:pibu@192.168.245.71:3006
SEQUENCE:0
DTSTAMP:20260421T135048Z
DTSTART:20260402T090000Z
DTEND:20260402T104000Z
SUMMARY:История России
LOCATION:16 к. 200
END:VEVENT
BEGIN:VEVENT
UID:ydaz@192.168.245.71:3006
SEQUENCE:0
DTSTAMP:20260421T135048Z
DTSTART:20260403T050000Z
DTEND:20260403T064000Z
SUMMARY:Элективная физическая культура и спорт
LOCATION:СК Секции
END:VEVENT
BEGIN:VEVENT
UID:daxg@192.168.245.71:3006
SEQUENCE:0
DTSTAMP:20260421T135048Z
DTSTART:20260403T070000Z
DTEND:20260403T084000Z
SUMMARY:Иностранный язык: Базовый курс
LOCATION:16 к. 503
END:VEVENT
BEGIN:VEVENT
UID:tlng@192.168.245.71:3006
SEQUENCE:0
DTSTAMP:20260421T135048Z
DTSTART:20260403T090000Z
DTEND:20260403T104000Z
SUMMARY:Экономическая культура
LOCATION:16 к. 506
END:VEVENT
BEGIN:VEVENT
UID:30u1@192.168.245.71:3006
SEQUENCE:0
DTSTAMP:20260421T135048Z
DTSTART:20260404T070000Z
DTEND:20260404T084000Z
SUMMARY:Основы делового общения (на русском языке)
LOCATION:16 к. 513
END:VEVENT
BEGIN:VEVENT
UID:lhm8@192.168.245.71:3006
SEQUENCE:0
DTSTAMP:20260421T135048Z
DTSTART:20260404T090000Z
DTEND:20260404T104000Z
SUMMARY:Основы делового общения (на русском языке)
LOCATION:16 к. 513
END:VEVENT
BEGIN:VEVENT
UID:m1tr@192.168.245.71:3006
SEQUENCE:0
DTSTAMP:20260421T135048Z
DTSTART:20260404T110000Z
DTEND:20260404T124000Z
SUMMARY:Математика и статистика
LOCATION:ГЗ 244
END:VEVENT
END:VCALENDAR