BEGIN:VCALENDAR
VERSION:2.0
PRODID:-//spbstu.ru//ical//RU
NAME:Расписание группы 3834203/50001
X-WR-CALNAME:Расписание группы 3834203/50001
TIMEZONE-ID:Europe/Moscow
X-WR-TIMEZONE:Europe/Moscow
BEGIN:VEVENT
UID:k2cz@192.168.245.71:3006
SEQUENCE:0
DTSTAMP:20260421T084930Z
DTSTART:20260413T110000Z
DTEND:20260413T124000Z
SUMMARY:История России
LOCATION:16 к. 513
END:VEVENT
BEGIN:VEVENT
UID:w3pa@192.168.245.71:3006
SEQUENCE:0
DTSTAMP:20260421T084930Z
DTSTART:20260413T130000Z
DTEND:20260413T144000Z
SUMMARY:Цифровые средства обработки данных
LOCATION:16 к. 210
END:VEVENT
BEGIN:VEVENT
UID:wem9@192.168.245.71:3006
SEQUENCE:0
DTSTAMP:20260421T084930Z
DTSTART:20260413T150000Z
DTEND:20260413T154500Z
SUMMARY:Философия
LOCATION:16 к. 514
END:VEVENT
BEGIN:VEVENT
UID:wjsu@192.168.245.71:3006
SEQUENCE:0
DTSTAMP:20260421T084930Z
DTSTART:20260414T070000Z
DTEND:20260414T084000Z
SUMMARY:Элективная физическая культура и спорт
LOCATION:СК Секции
END:VEVENT
BEGIN:VEVENT
UID:yi1j@192.168.245.71:3006
SEQUENCE:0
DTSTAMP:20260421T084930Z
DTSTART:20260416T090000Z
DTEND:20260416T104000Z
SUMMARY:История России
LOCATION:16 к. 200
END:VEVENT
BEGIN:VEVENT
UID:cazl@192.168.245.71:3006
SEQUENCE:0
DTSTAMP:20260421T084930Z
DTSTART:20260417T050000Z
DTEND:20260417T064000Z
SUMMARY:Элективная физическая культура и спорт
LOCATION:СК Секции
END:VEVENT
BEGIN:VEVENT
UID:x6a8@192.168.245.71:3006
SEQUENCE:0
DTSTAMP:20260421T084930Z
DTSTART:20260417T070000Z
DTEND:20260417T084000Z
SUMMARY:Иностранный язык: Базовый курс
LOCATION:16 к. 503
END:VEVENT
BEGIN:VEVENT
UID:tpq6@192.168.245.71:3006
SEQUENCE:0
DTSTAMP:20260421T084930Z
DTSTART:20260417T090000Z
DTEND:20260417T104000Z
SUMMARY:Экономическая культура
LOCATION:16 к. 506
END:VEVENT
BEGIN:VEVENT
UID:obk7@192.168.245.71:3006
SEQUENCE:0
DTSTAMP:20260421T084930Z
DTSTART:20260418T070000Z
DTEND:20260418T084000Z
SUMMARY:Основы делового общения (на русском языке)
LOCATION:16 к. 513
END:VEVENT
BEGIN:VEVENT
UID:5mg7@192.168.245.71:3006
SEQUENCE:0
DTSTAMP:20260421T084930Z
DTSTART:20260418T090000Z
DTEND:20260418T104000Z
SUMMARY:Основы делового общения (на русском языке)
LOCATION:16 к. 513
END:VEVENT
BEGIN:VEVENT
UID:iakj@192.168.245.71:3006
SEQUENCE:0
DTSTAMP:20260421T084930Z
DTSTART:20260418T110000Z
DTEND:20260418T124000Z
SUMMARY:Математика и статистика
LOCATION:ГЗ 244
END:VEVENT
END:VCALENDAR