BEGIN:VCALENDAR
VERSION:2.0
PRODID:-//spbstu.ru//ical//RU
NAME:Расписание группы 3834502/50002
X-WR-CALNAME:Расписание группы 3834502/50002
TIMEZONE-ID:Europe/Moscow
X-WR-TIMEZONE:Europe/Moscow
BEGIN:VEVENT
UID:c6lb@192.168.245.71:3006
SEQUENCE:0
DTSTAMP:20260425T004311Z
DTSTART:20251013T070000Z
DTEND:20251013T084000Z
SUMMARY:Практический курс первого иностранного языка
LOCATION:9 к. 225
END:VEVENT
BEGIN:VEVENT
UID:su4s@192.168.245.71:3006
SEQUENCE:0
DTSTAMP:20260425T004311Z
DTSTART:20251013T090000Z
DTEND:20251013T104000Z
SUMMARY:Введение в профессиональную деятельность
LOCATION:9 к. 535
END:VEVENT
BEGIN:VEVENT
UID:8brw@192.168.245.71:3006
SEQUENCE:0
DTSTAMP:20260425T004311Z
DTSTART:20251013T110000Z
DTEND:20251013T124000Z
SUMMARY:Математика и статистика
LOCATION:9 к. 221
END:VEVENT
BEGIN:VEVENT
UID:wwpk@192.168.245.71:3006
SEQUENCE:0
DTSTAMP:20260425T004311Z
DTSTART:20251013T130000Z
DTEND:20251013T144000Z
SUMMARY:Практический курс первого иностранного языка
LOCATION:9 к. 241
END:VEVENT
BEGIN:VEVENT
UID:udml@192.168.245.71:3006
SEQUENCE:0
DTSTAMP:20260425T004311Z
DTSTART:20251014T070000Z
DTEND:20251014T084000Z
SUMMARY:Элективная физическая культура и спорт
LOCATION:СК Спортивный зал
END:VEVENT
BEGIN:VEVENT
UID:rrya@192.168.245.71:3006
SEQUENCE:0
DTSTAMP:20260425T004311Z
DTSTART:20251014T090000Z
DTEND:20251014T104000Z
SUMMARY:Практический курс первого иностранного языка
LOCATION:9 к. 512
END:VEVENT
BEGIN:VEVENT
UID:yojg@192.168.245.71:3006
SEQUENCE:0
DTSTAMP:20260425T004311Z
DTSTART:20251014T090000Z
DTEND:20251014T104000Z
SUMMARY:Практическая фонетика
LOCATION:9 к. 235
END:VEVENT
BEGIN:VEVENT
UID:1d3e@192.168.245.71:3006
SEQUENCE:0
DTSTAMP:20260425T004311Z
DTSTART:20251014T110000Z
DTEND:20251014T124000Z
SUMMARY:Практический курс первого иностранного языка
LOCATION:9 к. 319
END:VEVENT
BEGIN:VEVENT
UID:b50k@192.168.245.71:3006
SEQUENCE:0
DTSTAMP:20260425T004311Z
DTSTART:20251014T110000Z
DTEND:20251014T124000Z
SUMMARY:Практическая фонетика
LOCATION:9 к. 235
END:VEVENT
BEGIN:VEVENT
UID:00ud@192.168.245.71:3006
SEQUENCE:0
DTSTAMP:20260425T004311Z
DTSTART:20251015T050000Z
DTEND:20251015T064000Z
SUMMARY:Права человека
LOCATION:ГЗ 122
END:VEVENT
BEGIN:VEVENT
UID:sord@192.168.245.71:3006
SEQUENCE:0
DTSTAMP:20260425T004311Z
DTSTART:20251015T070000Z
DTEND:20251015T084000Z
SUMMARY:Права человека
LOCATION:9 к. 319
END:VEVENT
BEGIN:VEVENT
UID:aoz3@192.168.245.71:3006
SEQUENCE:0
DTSTAMP:20260425T004311Z
DTSTART:20251015T090000Z
DTEND:20251015T104000Z
SUMMARY:История России
LOCATION:ГЗ 281
END:VEVENT
BEGIN:VEVENT
UID:33mq@192.168.245.71:3006
SEQUENCE:0
DTSTAMP:20260425T004311Z
DTSTART:20251016T070000Z
DTEND:20251016T084000Z
SUMMARY:История России
LOCATION:ГЗ 329
END:VEVENT
BEGIN:VEVENT
UID:rizi@192.168.245.71:3006
SEQUENCE:0
DTSTAMP:20260425T004311Z
DTSTART:20251016T090000Z
DTEND:20251016T104000Z
SUMMARY:Основы российской государственности
LOCATION:ГЗ 123
END:VEVENT
BEGIN:VEVENT
UID:g0ll@192.168.245.71:3006
SEQUENCE:0
DTSTAMP:20260425T004311Z
DTSTART:20251016T110000Z
DTEND:20251016T124000Z
SUMMARY:Современный русский язык
LOCATION:9 к. 217
END:VEVENT
BEGIN:VEVENT
UID:votv@192.168.245.71:3006
SEQUENCE:0
DTSTAMP:20260425T004311Z
DTSTART:20251016T130000Z
DTEND:20251016T144000Z
SUMMARY:Практический курс первого иностранного языка
LOCATION:9 к. 512
END:VEVENT
BEGIN:VEVENT
UID:6yhp@192.168.245.71:3006
SEQUENCE:0
DTSTAMP:20260425T004311Z
DTSTART:20251017T050000Z
DTEND:20251017T064000Z
SUMMARY:Элективная физическая культура и спорт
LOCATION:СК Спортивный зал
END:VEVENT
BEGIN:VEVENT
UID:ttjs@192.168.245.71:3006
SEQUENCE:0
DTSTAMP:20260425T004311Z
DTSTART:20251017T090000Z
DTEND:20251017T104000Z
SUMMARY:Введение в профессиональную деятельность
LOCATION:ГЗ 101
END:VEVENT
BEGIN:VEVENT
UID:kbf5@192.168.245.71:3006
SEQUENCE:0
DTSTAMP:20260425T004311Z
DTSTART:20251017T110000Z
DTEND:20251017T124000Z
SUMMARY:Современный русский язык
LOCATION:ГЗ 257
END:VEVENT
END:VCALENDAR