BEGIN:VCALENDAR
VERSION:2.0
PRODID:-//spbstu.ru//ical//RU
NAME:Расписание группы 3834502/50002
X-WR-CALNAME:Расписание группы 3834502/50002
TIMEZONE-ID:Europe/Moscow
X-WR-TIMEZONE:Europe/Moscow
BEGIN:VEVENT
UID:0d8b@192.168.245.71:3006
SEQUENCE:0
DTSTAMP:20260425T105256Z
DTSTART:20250915T070000Z
DTEND:20250915T084000Z
SUMMARY:Практический курс первого иностранного языка
LOCATION:9 к. 225
END:VEVENT
BEGIN:VEVENT
UID:psbs@192.168.245.71:3006
SEQUENCE:0
DTSTAMP:20260425T105256Z
DTSTART:20250915T090000Z
DTEND:20250915T104000Z
SUMMARY:Введение в профессиональную деятельность
LOCATION:9 к. 415
END:VEVENT
BEGIN:VEVENT
UID:twwp@192.168.245.71:3006
SEQUENCE:0
DTSTAMP:20260425T105256Z
DTSTART:20250915T110000Z
DTEND:20250915T124000Z
SUMMARY:Математика и статистика
LOCATION:9 к. 221
END:VEVENT
BEGIN:VEVENT
UID:3yw0@192.168.245.71:3006
SEQUENCE:0
DTSTAMP:20260425T105256Z
DTSTART:20250915T130000Z
DTEND:20250915T144000Z
SUMMARY:Практический курс первого иностранного языка
LOCATION:9 к. 241
END:VEVENT
BEGIN:VEVENT
UID:qfb1@192.168.245.71:3006
SEQUENCE:0
DTSTAMP:20260425T105256Z
DTSTART:20250916T070000Z
DTEND:20250916T084000Z
SUMMARY:Элективная физическая культура и спорт
LOCATION:СК Спортивный зал
END:VEVENT
BEGIN:VEVENT
UID:uoeg@192.168.245.71:3006
SEQUENCE:0
DTSTAMP:20260425T105256Z
DTSTART:20250916T090000Z
DTEND:20250916T104000Z
SUMMARY:Практическая фонетика
LOCATION:9 к. 235
END:VEVENT
BEGIN:VEVENT
UID:ohqc@192.168.245.71:3006
SEQUENCE:0
DTSTAMP:20260425T105256Z
DTSTART:20250916T090000Z
DTEND:20250916T104000Z
SUMMARY:Практический курс первого иностранного языка
LOCATION:9 к. 512
END:VEVENT
BEGIN:VEVENT
UID:5n3g@192.168.245.71:3006
SEQUENCE:0
DTSTAMP:20260425T105256Z
DTSTART:20250916T110000Z
DTEND:20250916T124000Z
SUMMARY:Практический курс первого иностранного языка
LOCATION:9 к. 319
END:VEVENT
BEGIN:VEVENT
UID:pl16@192.168.245.71:3006
SEQUENCE:0
DTSTAMP:20260425T105256Z
DTSTART:20250916T110000Z
DTEND:20250916T124000Z
SUMMARY:Практическая фонетика
LOCATION:9 к. 235
END:VEVENT
BEGIN:VEVENT
UID:zhlo@192.168.245.71:3006
SEQUENCE:0
DTSTAMP:20260425T105256Z
DTSTART:20250917T050000Z
DTEND:20250917T064000Z
SUMMARY:Права человека
LOCATION:ГЗ 122
END:VEVENT
BEGIN:VEVENT
UID:m2m9@192.168.245.71:3006
SEQUENCE:0
DTSTAMP:20260425T105256Z
DTSTART:20250917T070000Z
DTEND:20250917T084000Z
SUMMARY:Права человека
LOCATION:9 к. 319
END:VEVENT
BEGIN:VEVENT
UID:z3he@192.168.245.71:3006
SEQUENCE:0
DTSTAMP:20260425T105256Z
DTSTART:20250917T090000Z
DTEND:20250917T104000Z
SUMMARY:История России
LOCATION:ГЗ 281
END:VEVENT
BEGIN:VEVENT
UID:i7eb@192.168.245.71:3006
SEQUENCE:0
DTSTAMP:20260425T105256Z
DTSTART:20250918T070000Z
DTEND:20250918T084000Z
SUMMARY:История России
LOCATION:ГЗ 329
END:VEVENT
BEGIN:VEVENT
UID:1vbn@192.168.245.71:3006
SEQUENCE:0
DTSTAMP:20260425T105256Z
DTSTART:20250918T090000Z
DTEND:20250918T104000Z
SUMMARY:Основы российской государственности
LOCATION:ГЗ 123
END:VEVENT
BEGIN:VEVENT
UID:99lu@192.168.245.71:3006
SEQUENCE:0
DTSTAMP:20260425T105256Z
DTSTART:20250918T110000Z
DTEND:20250918T124000Z
SUMMARY:Современный русский язык
LOCATION:9 к. 217
END:VEVENT
BEGIN:VEVENT
UID:hsb1@192.168.245.71:3006
SEQUENCE:0
DTSTAMP:20260425T105256Z
DTSTART:20250918T130000Z
DTEND:20250918T144000Z
SUMMARY:Практический курс первого иностранного языка
LOCATION:9 к. 219а
END:VEVENT
BEGIN:VEVENT
UID:twag@192.168.245.71:3006
SEQUENCE:0
DTSTAMP:20260425T105256Z
DTSTART:20250918T130000Z
DTEND:20250918T144000Z
SUMMARY:Практический курс первого иностранного языка
LOCATION:9 к. 512
END:VEVENT
BEGIN:VEVENT
UID:4j75@192.168.245.71:3006
SEQUENCE:0
DTSTAMP:20260425T105256Z
DTSTART:20250919T050000Z
DTEND:20250919T064000Z
SUMMARY:Элективная физическая культура и спорт
LOCATION:СК Спортивный зал
END:VEVENT
BEGIN:VEVENT
UID:33fq@192.168.245.71:3006
SEQUENCE:0
DTSTAMP:20260425T105256Z
DTSTART:20250919T090000Z
DTEND:20250919T104000Z
SUMMARY:Введение в профессиональную деятельность
LOCATION:ГЗ 101
END:VEVENT
BEGIN:VEVENT
UID:7gy7@192.168.245.71:3006
SEQUENCE:0
DTSTAMP:20260425T105256Z
DTSTART:20250919T110000Z
DTEND:20250919T124000Z
SUMMARY:Современный русский язык
LOCATION:ГЗ 257
END:VEVENT
END:VCALENDAR