BEGIN:VCALENDAR
VERSION:2.0
PRODID:-//spbstu.ru//ical//RU
NAME:Расписание группы 3834502/50002
X-WR-CALNAME:Расписание группы 3834502/50002
TIMEZONE-ID:Europe/Moscow
X-WR-TIMEZONE:Europe/Moscow
BEGIN:VEVENT
UID:fbg9@192.168.245.71:3006
SEQUENCE:0
DTSTAMP:20260423T000147Z
DTSTART:20260112T100000Z
DTEND:20260112T110000Z
SUMMARY:Права человека
LOCATION:9 к. 212
END:VEVENT
BEGIN:VEVENT
UID:0qex@192.168.245.71:3006
SEQUENCE:0
DTSTAMP:20260423T000147Z
DTSTART:20260114T130000Z
DTEND:20260114T144000Z
SUMMARY:Права человека
LOCATION:9 к. 219
END:VEVENT
BEGIN:VEVENT
UID:cjmt@192.168.245.71:3006
SEQUENCE:0
DTSTAMP:20260423T000147Z
DTSTART:20260116T093000Z
DTEND:20260116T103000Z
SUMMARY:Психология
LOCATION:9 к. 212
END:VEVENT
END:VCALENDAR