BEGIN:VCALENDAR
VERSION:2.0
PRODID:-//spbstu.ru//ical//RU
NAME:Расписание группы 3834502/50002
X-WR-CALNAME:Расписание группы 3834502/50002
TIMEZONE-ID:Europe/Moscow
X-WR-TIMEZONE:Europe/Moscow
BEGIN:VEVENT
UID:d4iw@192.168.245.71:3006
SEQUENCE:0
DTSTAMP:20260422T134753Z
DTSTART:20260202T070000Z
DTEND:20260202T084000Z
SUMMARY:Практический курс первого иностранного языка
LOCATION:9 к. 512
END:VEVENT
BEGIN:VEVENT
UID:cix3@192.168.245.71:3006
SEQUENCE:0
DTSTAMP:20260422T134753Z
DTSTART:20260202T070000Z
DTEND:20260202T084000Z
SUMMARY:Практический курс первого иностранного языка
LOCATION:9 к. 225
END:VEVENT
BEGIN:VEVENT
UID:ucpy@192.168.245.71:3006
SEQUENCE:0
DTSTAMP:20260422T134753Z
DTSTART:20260202T090000Z
DTEND:20260202T104000Z
SUMMARY:Практический курс первого иностранного языка
LOCATION:9 к. 512
END:VEVENT
BEGIN:VEVENT
UID:sczx@192.168.245.71:3006
SEQUENCE:0
DTSTAMP:20260422T134753Z
DTSTART:20260202T090000Z
DTEND:20260202T104000Z
SUMMARY:Практический курс первого иностранного языка
LOCATION:9 к. 225
END:VEVENT
BEGIN:VEVENT
UID:mqrr@192.168.245.71:3006
SEQUENCE:0
DTSTAMP:20260422T134753Z
DTSTART:20260202T110000Z
DTEND:20260202T124000Z
SUMMARY:Основы делового общения (на русском языке)
LOCATION:9 к. 319
END:VEVENT
BEGIN:VEVENT
UID:d398@192.168.245.71:3006
SEQUENCE:0
DTSTAMP:20260422T134753Z
DTSTART:20260202T130000Z
DTEND:20260202T144000Z
SUMMARY:Практическая грамматика
LOCATION:9 к. 219
END:VEVENT
BEGIN:VEVENT
UID:jqxl@192.168.245.71:3006
SEQUENCE:0
DTSTAMP:20260422T134753Z
DTSTART:20260203T070000Z
DTEND:20260203T084000Z
SUMMARY:Практический курс первого иностранного языка
LOCATION:9 к. 415
END:VEVENT
BEGIN:VEVENT
UID:th9m@192.168.245.71:3006
SEQUENCE:0
DTSTAMP:20260422T134753Z
DTSTART:20260203T090000Z
DTEND:20260203T104000Z
SUMMARY:Практическая грамматика
LOCATION:9 к. 216
END:VEVENT
BEGIN:VEVENT
UID:ihwe@192.168.245.71:3006
SEQUENCE:0
DTSTAMP:20260422T134753Z
DTSTART:20260204T130000Z
DTEND:20260204T144000Z
SUMMARY:Физическая культура
LOCATION:ГЗ 232
END:VEVENT
BEGIN:VEVENT
UID:2au6@192.168.245.71:3006
SEQUENCE:0
DTSTAMP:20260422T134753Z
DTSTART:20260205T070000Z
DTEND:20260205T084000Z
SUMMARY:История России
LOCATION:ГЗ 235
END:VEVENT
BEGIN:VEVENT
UID:uveu@192.168.245.71:3006
SEQUENCE:0
DTSTAMP:20260422T134753Z
DTSTART:20260206T070000Z
DTEND:20260206T084000Z
SUMMARY:Основы делового общения (на русском языке)
LOCATION:9 к. 333
END:VEVENT
BEGIN:VEVENT
UID:73hy@192.168.245.71:3006
SEQUENCE:0
DTSTAMP:20260422T134753Z
DTSTART:20260206T090000Z
DTEND:20260206T104000Z
SUMMARY:Математика и статистика
LOCATION:9 к. 221
END:VEVENT
BEGIN:VEVENT
UID:n5ow@192.168.245.71:3006
SEQUENCE:0
DTSTAMP:20260422T134753Z
DTSTART:20260206T110000Z
DTEND:20260206T124000Z
SUMMARY:Практический курс первого иностранного языка
LOCATION:9 к. 217
END:VEVENT
END:VCALENDAR