BEGIN:VCALENDAR
VERSION:2.0
PRODID:-//spbstu.ru//ical//RU
NAME:Расписание группы 3844001/50101
X-WR-CALNAME:Расписание группы 3844001/50101
TIMEZONE-ID:Europe/Moscow
X-WR-TIMEZONE:Europe/Moscow
BEGIN:VEVENT
UID:2tgg@192.168.245.71:3006
SEQUENCE:0
DTSTAMP:20260425T203735Z
DTSTART:20251020T130000Z
DTEND:20251020T144000Z
SUMMARY:Научно-исследовательский семинар
LOCATION:9 к. 441
END:VEVENT
BEGIN:VEVENT
UID:deug@192.168.245.71:3006
SEQUENCE:0
DTSTAMP:20260425T203735Z
DTSTART:20251020T150000Z
DTEND:20251020T164000Z
SUMMARY:Правовой режим земель
LOCATION:9 к. 417
END:VEVENT
BEGIN:VEVENT
UID:s9db@192.168.245.71:3006
SEQUENCE:0
DTSTAMP:20260425T203735Z
DTSTART:20251021T130000Z
DTEND:20251021T144000Z
SUMMARY:История политических и правовых учений
LOCATION:9 к. 432
END:VEVENT
BEGIN:VEVENT
UID:h4mb@192.168.245.71:3006
SEQUENCE:0
DTSTAMP:20260425T203735Z
DTSTART:20251021T150000Z
DTEND:20251021T164000Z
SUMMARY:Философия права
LOCATION:9 к. 535
END:VEVENT
BEGIN:VEVENT
UID:845q@192.168.245.71:3006
SEQUENCE:0
DTSTAMP:20260425T203735Z
DTSTART:20251022T130000Z
DTEND:20251022T144000Z
SUMMARY:История политических и правовых учений
LOCATION:9 к. 441
END:VEVENT
BEGIN:VEVENT
UID:73vo@192.168.245.71:3006
SEQUENCE:0
DTSTAMP:20260425T203735Z
DTSTART:20251022T150000Z
DTEND:20251022T164000Z
SUMMARY:Актуальные проблемы права
LOCATION:9 к. 441
END:VEVENT
BEGIN:VEVENT
UID:rj13@192.168.245.71:3006
SEQUENCE:0
DTSTAMP:20260425T203735Z
DTSTART:20251023T130000Z
DTEND:20251023T144000Z
SUMMARY:Теоретические и практические проблемы противодействия коррупции
LOCATION:9 к. 441
END:VEVENT
BEGIN:VEVENT
UID:17jk@192.168.245.71:3006
SEQUENCE:0
DTSTAMP:20260425T203735Z
DTSTART:20251023T150000Z
DTEND:20251023T164000Z
SUMMARY:Цифровые ресурсы в научном исследовании
LOCATION:9 к. 435
END:VEVENT
BEGIN:VEVENT
UID:wk9a@192.168.245.71:3006
SEQUENCE:0
DTSTAMP:20260425T203735Z
DTSTART:20251024T130000Z
DTEND:20251024T144000Z
SUMMARY:Международное экологическое право
LOCATION:9 к. 417
END:VEVENT
BEGIN:VEVENT
UID:4o30@192.168.245.71:3006
SEQUENCE:0
DTSTAMP:20260425T203735Z
DTSTART:20251024T150000Z
DTEND:20251024T164000Z
SUMMARY:Международное экологическое право
LOCATION:9 к. 417
END:VEVENT
END:VCALENDAR