BEGIN:VCALENDAR
VERSION:2.0
PRODID:-//spbstu.ru//ical//RU
NAME:Расписание группы 3844001/50101
X-WR-CALNAME:Расписание группы 3844001/50101
TIMEZONE-ID:Europe/Moscow
X-WR-TIMEZONE:Europe/Moscow
BEGIN:VEVENT
UID:0ms4@192.168.245.71:3006
SEQUENCE:0
DTSTAMP:20260423T205721Z
DTSTART:20260119T120000Z
DTEND:20260119T130000Z
SUMMARY:Актуальные проблемы права
LOCATION:9 к. 432
END:VEVENT
BEGIN:VEVENT
UID:c4vk@192.168.245.71:3006
SEQUENCE:0
DTSTAMP:20260423T205721Z
DTSTART:20260120T120000Z
DTEND:20260120T143000Z
SUMMARY:Актуальные проблемы права
LOCATION:9 к. 432
END:VEVENT
BEGIN:VEVENT
UID:i3em@192.168.245.71:3006
SEQUENCE:0
DTSTAMP:20260423T205721Z
DTSTART:20260122T130000Z
DTEND:20260122T140000Z
SUMMARY:Теоретические и практические проблемы противодействия коррупции
LOCATION:9 к. 415
END:VEVENT
BEGIN:VEVENT
UID:juzt@192.168.245.71:3006
SEQUENCE:0
DTSTAMP:20260423T205721Z
DTSTART:20260123T130000Z
DTEND:20260123T144000Z
SUMMARY:Теоретические и практические проблемы противодействия коррупции
LOCATION:9 к. 415
END:VEVENT
END:VCALENDAR