BEGIN:VCALENDAR
VERSION:2.0
PRODID:-//spbstu.ru//ical//RU
NAME:Расписание группы 3844001/50101
X-WR-CALNAME:Расписание группы 3844001/50101
TIMEZONE-ID:Europe/Moscow
X-WR-TIMEZONE:Europe/Moscow
BEGIN:VEVENT
UID:6l23@192.168.245.71:3006
SEQUENCE:0
DTSTAMP:20260422T080033Z
DTSTART:20260316T130000Z
DTEND:20260316T144000Z
SUMMARY:Право природопользования
LOCATION:9 к. 441
END:VEVENT
BEGIN:VEVENT
UID:ey1i@192.168.245.71:3006
SEQUENCE:0
DTSTAMP:20260422T080033Z
DTSTART:20260316T150000Z
DTEND:20260316T164000Z
SUMMARY:Право природопользования
LOCATION:9 к. 441
END:VEVENT
BEGIN:VEVENT
UID:0ez2@192.168.245.71:3006
SEQUENCE:0
DTSTAMP:20260422T080033Z
DTSTART:20260317T130000Z
DTEND:20260317T144000Z
SUMMARY:Сравнительное правоведение
LOCATION:9 к. 212
END:VEVENT
BEGIN:VEVENT
UID:6ob2@192.168.245.71:3006
SEQUENCE:0
DTSTAMP:20260422T080033Z
DTSTART:20260317T150000Z
DTEND:20260317T164000Z
SUMMARY:Сравнительное правоведение
LOCATION:9 к. 212
END:VEVENT
BEGIN:VEVENT
UID:zpg5@192.168.245.71:3006
SEQUENCE:0
DTSTAMP:20260422T080033Z
DTSTART:20260318T130000Z
DTEND:20260318T144000Z
SUMMARY:Сравнительное правоведение
LOCATION:9 к. 417
END:VEVENT
BEGIN:VEVENT
UID:5r1n@192.168.245.71:3006
SEQUENCE:0
DTSTAMP:20260422T080033Z
DTSTART:20260320T130000Z
DTEND:20260320T144000Z
SUMMARY:Иностранный язык в профессиональной коммуникации\, Английский
LOCATION:9 к. 208
END:VEVENT
END:VCALENDAR