BEGIN:VCALENDAR
VERSION:2.0
PRODID:-//spbstu.ru//ical//RU
NAME:Расписание группы 3844001/50101
X-WR-CALNAME:Расписание группы 3844001/50101
TIMEZONE-ID:Europe/Moscow
X-WR-TIMEZONE:Europe/Moscow
BEGIN:VEVENT
UID:nslk@192.168.245.71:3006
SEQUENCE:0
DTSTAMP:20260422T124127Z
DTSTART:20260302T130000Z
DTEND:20260302T144000Z
SUMMARY:Право природопользования
LOCATION:9 к. 441
END:VEVENT
BEGIN:VEVENT
UID:q6ba@192.168.245.71:3006
SEQUENCE:0
DTSTAMP:20260422T124127Z
DTSTART:20260302T150000Z
DTEND:20260302T164000Z
SUMMARY:Право природопользования
LOCATION:9 к. 441
END:VEVENT
BEGIN:VEVENT
UID:52k4@192.168.245.71:3006
SEQUENCE:0
DTSTAMP:20260422T124127Z
DTSTART:20260303T130000Z
DTEND:20260303T144000Z
SUMMARY:Сравнительное правоведение
LOCATION:9 к. 212
END:VEVENT
BEGIN:VEVENT
UID:0xbn@192.168.245.71:3006
SEQUENCE:0
DTSTAMP:20260422T124127Z
DTSTART:20260304T130000Z
DTEND:20260304T144000Z
SUMMARY:Сравнительное правоведение
LOCATION:9 к. 417
END:VEVENT
BEGIN:VEVENT
UID:uvac@192.168.245.71:3006
SEQUENCE:0
DTSTAMP:20260422T124127Z
DTSTART:20260304T150000Z
DTEND:20260304T164000Z
SUMMARY:Сравнительное правоведение
LOCATION:9 к. 417
END:VEVENT
BEGIN:VEVENT
UID:ihku@192.168.245.71:3006
SEQUENCE:0
DTSTAMP:20260422T124127Z
DTSTART:20260306T130000Z
DTEND:20260306T144000Z
SUMMARY:Иностранный язык в профессиональной коммуникации\, Английский
LOCATION:9 к. 208
END:VEVENT
END:VCALENDAR