BEGIN:VCALENDAR
VERSION:2.0
PRODID:-//spbstu.ru//ical//RU
NAME:Расписание группы 3844001/50101
X-WR-CALNAME:Расписание группы 3844001/50101
TIMEZONE-ID:Europe/Moscow
X-WR-TIMEZONE:Europe/Moscow
BEGIN:VEVENT
UID:9elg@192.168.245.71:3006
SEQUENCE:0
DTSTAMP:20260422T124012Z
DTSTART:20260310T130000Z
DTEND:20260310T144000Z
SUMMARY:Сравнительное правоведение
LOCATION:9 к. 212
END:VEVENT
BEGIN:VEVENT
UID:2yjx@192.168.245.71:3006
SEQUENCE:0
DTSTAMP:20260422T124012Z
DTSTART:20260311T130000Z
DTEND:20260311T144000Z
SUMMARY:Энергетическое право
LOCATION:9 к. 129
END:VEVENT
BEGIN:VEVENT
UID:dizv@192.168.245.71:3006
SEQUENCE:0
DTSTAMP:20260422T124012Z
DTSTART:20260311T150000Z
DTEND:20260311T164000Z
SUMMARY:Энергетическое право
LOCATION:9 к. 129
END:VEVENT
BEGIN:VEVENT
UID:c7ho@192.168.245.71:3006
SEQUENCE:0
DTSTAMP:20260422T124012Z
DTSTART:20260313T130000Z
DTEND:20260313T144000Z
SUMMARY:Иностранный язык в профессиональной коммуникации\, Английский
LOCATION:9 к. 208
END:VEVENT
END:VCALENDAR