BEGIN:VCALENDAR
VERSION:2.0
PRODID:-//spbstu.ru//ical//RU
NAME:Расписание группы 3844101/50201
X-WR-CALNAME:Расписание группы 3844101/50201
TIMEZONE-ID:Europe/Moscow
X-WR-TIMEZONE:Europe/Moscow
BEGIN:VEVENT
UID:h2nl@192.168.245.71:3006
SEQUENCE:0
DTSTAMP:20260424T184316Z
DTSTART:20251202T090000Z
DTEND:20251202T104000Z
SUMMARY:Управление научным проектом
LOCATION:16 к. 121
END:VEVENT
BEGIN:VEVENT
UID:98ta@192.168.245.71:3006
SEQUENCE:0
DTSTAMP:20260424T184316Z
DTSTART:20251202T110000Z
DTEND:20251202T124000Z
SUMMARY:Цифровые ресурсы в научном исследовании
LOCATION:16 к. 121
END:VEVENT
BEGIN:VEVENT
UID:giog@192.168.245.71:3006
SEQUENCE:0
DTSTAMP:20260424T184316Z
DTSTART:20251203T130000Z
DTEND:20251203T144000Z
SUMMARY:Мировое комплексное регионоведение
LOCATION:16 к. 400
END:VEVENT
BEGIN:VEVENT
UID:l0fu@192.168.245.71:3006
SEQUENCE:0
DTSTAMP:20260424T184316Z
DTSTART:20251204T090000Z
DTEND:20251204T104000Z
SUMMARY:Кроссрегиональный анализ
LOCATION:16 к. 114
END:VEVENT
BEGIN:VEVENT
UID:f36c@192.168.245.71:3006
SEQUENCE:0
DTSTAMP:20260424T184316Z
DTSTART:20251204T110000Z
DTEND:20251204T124000Z
SUMMARY:Мировое комплексное регионоведение
LOCATION:16 к. 521
END:VEVENT
BEGIN:VEVENT
UID:m8ad@192.168.245.71:3006
SEQUENCE:0
DTSTAMP:20260424T184316Z
DTSTART:20251204T130000Z
DTEND:20251204T144000Z
SUMMARY:Китайский язык
LOCATION:16 к. 109
END:VEVENT
BEGIN:VEVENT
UID:k6fm@192.168.245.71:3006
SEQUENCE:0
DTSTAMP:20260424T184316Z
DTSTART:20251204T150000Z
DTEND:20251204T164000Z
SUMMARY:Китайский язык
LOCATION:16 к. 109
END:VEVENT
BEGIN:VEVENT
UID:hjwg@192.168.245.71:3006
SEQUENCE:0
DTSTAMP:20260424T184316Z
DTSTART:20251205T050000Z
DTEND:20251205T064000Z
SUMMARY:Китайский язык
LOCATION:16 к. 109
END:VEVENT
BEGIN:VEVENT
UID:exn7@192.168.245.71:3006
SEQUENCE:0
DTSTAMP:20260424T184316Z
DTSTART:20251205T070000Z
DTEND:20251205T084000Z
SUMMARY:Китайский язык
LOCATION:16 к. 109
END:VEVENT
BEGIN:VEVENT
UID:ipy9@192.168.245.71:3006
SEQUENCE:0
DTSTAMP:20260424T184316Z
DTSTART:20251205T090000Z
DTEND:20251205T104000Z
SUMMARY:Иностранный язык в профессиональной коммуникации\, Английский
LOCATION:16 к. 501
END:VEVENT
BEGIN:VEVENT
UID:fklr@192.168.245.71:3006
SEQUENCE:0
DTSTAMP:20260424T184316Z
DTSTART:20251205T110000Z
DTEND:20251205T124000Z
SUMMARY:Иностранный язык в профессиональной коммуникации\, Английский
LOCATION:16 к. 501
END:VEVENT
END:VCALENDAR