BEGIN:VCALENDAR
VERSION:2.0
PRODID:-//spbstu.ru//ical//RU
NAME:Расписание группы 3844101/50201
X-WR-CALNAME:Расписание группы 3844101/50201
TIMEZONE-ID:Europe/Moscow
X-WR-TIMEZONE:Europe/Moscow
BEGIN:VEVENT
UID:ue82@192.168.245.71:3006
SEQUENCE:0
DTSTAMP:20260424T090512Z
DTSTART:20251222T110000Z
DTEND:20251222T130000Z
SUMMARY:Китайский язык
LOCATION:16 к. 111
END:VEVENT
BEGIN:VEVENT
UID:4a1u@192.168.245.71:3006
SEQUENCE:0
DTSTAMP:20260424T090512Z
DTSTART:20251226T110000Z
DTEND:20251226T122000Z
SUMMARY:Управление научным проектом
LOCATION:16 к. 200
END:VEVENT
BEGIN:VEVENT
UID:9u3y@192.168.245.71:3006
SEQUENCE:0
DTSTAMP:20260424T090512Z
DTSTART:20251226T130000Z
DTEND:20251226T142000Z
SUMMARY:Цифровые ресурсы в научном исследовании
LOCATION:16 к. 200
END:VEVENT
END:VCALENDAR