BEGIN:VCALENDAR
VERSION:2.0
PRODID:-//spbstu.ru//ical//RU
NAME:Расписание группы 3844101/50201
X-WR-CALNAME:Расписание группы 3844101/50201
TIMEZONE-ID:Europe/Moscow
X-WR-TIMEZONE:Europe/Moscow
BEGIN:VEVENT
UID:gq54@192.168.245.71:3006
SEQUENCE:0
DTSTAMP:20260421T210953Z
DTSTART:20260518T130000Z
DTEND:20260518T144000Z
SUMMARY:Китайский язык
LOCATION:16 к. 506
END:VEVENT
BEGIN:VEVENT
UID:x1i4@192.168.245.71:3006
SEQUENCE:0
DTSTAMP:20260421T210953Z
DTSTART:20260518T150000Z
DTEND:20260518T164000Z
SUMMARY:Китайский язык
LOCATION:16 к. 506
END:VEVENT
BEGIN:VEVENT
UID:du0i@192.168.245.71:3006
SEQUENCE:0
DTSTAMP:20260421T210953Z
DTSTART:20260520T130000Z
DTEND:20260520T144000Z
SUMMARY:Китайский язык
LOCATION:16 к. 113
END:VEVENT
BEGIN:VEVENT
UID:vkko@192.168.245.71:3006
SEQUENCE:0
DTSTAMP:20260421T210953Z
DTSTART:20260520T150000Z
DTEND:20260520T164000Z
SUMMARY:Китайский язык
LOCATION:16 к. 113
END:VEVENT
END:VCALENDAR