BEGIN:VCALENDAR
VERSION:2.0
PRODID:-//spbstu.ru//ical//RU
NAME:Расписание группы 3844201/50401
X-WR-CALNAME:Расписание группы 3844201/50401
TIMEZONE-ID:Europe/Moscow
X-WR-TIMEZONE:Europe/Moscow
BEGIN:VEVENT
UID:8n33@192.168.245.71:3006
SEQUENCE:0
DTSTAMP:20260426T033009Z
DTSTART:20250908T110000Z
DTEND:20250908T124000Z
SUMMARY:Иностранный язык в профессиональной коммуникации\, Английский
LOCATION:16 к. 121
END:VEVENT
BEGIN:VEVENT
UID:11r0@192.168.245.71:3006
SEQUENCE:0
DTSTAMP:20260426T033009Z
DTSTART:20250908T130000Z
DTEND:20250908T144000Z
SUMMARY:Методы научных исследований
LOCATION:16 к. 209
END:VEVENT
BEGIN:VEVENT
UID:29fw@192.168.245.71:3006
SEQUENCE:0
DTSTAMP:20260426T033009Z
DTSTART:20250908T150000Z
DTEND:20250908T164000Z
SUMMARY:Управление инновационным проектом
LOCATION:16 к. 214
END:VEVENT
BEGIN:VEVENT
UID:7dcj@192.168.245.71:3006
SEQUENCE:0
DTSTAMP:20260426T033009Z
DTSTART:20250909T110000Z
DTEND:20250909T124000Z
SUMMARY:Современные тренды коммуникационной индустрии
LOCATION:16 к. 214
END:VEVENT
BEGIN:VEVENT
UID:9xno@192.168.245.71:3006
SEQUENCE:0
DTSTAMP:20260426T033009Z
DTSTART:20250911T110000Z
DTEND:20250911T124000Z
SUMMARY:Индустриальное наследие
LOCATION:16 к. 201
END:VEVENT
BEGIN:VEVENT
UID:v5el@192.168.245.71:3006
SEQUENCE:0
DTSTAMP:20260426T033009Z
DTSTART:20250911T130000Z
DTEND:20250911T144000Z
SUMMARY:Цифровые ресурсы в научном исследовании
LOCATION:16 к. 213
END:VEVENT
END:VCALENDAR