BEGIN:VCALENDAR
VERSION:2.0
PRODID:-//spbstu.ru//ical//RU
NAME:Расписание группы 3844201/50401
X-WR-CALNAME:Расписание группы 3844201/50401
TIMEZONE-ID:Europe/Moscow
X-WR-TIMEZONE:Europe/Moscow
BEGIN:VEVENT
UID:fgy6@192.168.245.71:3006
SEQUENCE:0
DTSTAMP:20260423T072455Z
DTSTART:20260216T110000Z
DTEND:20260216T114500Z
SUMMARY:Управление инновационным проектом
LOCATION:16 к. 209
END:VEVENT
BEGIN:VEVENT
UID:ou8g@192.168.245.71:3006
SEQUENCE:0
DTSTAMP:20260423T072455Z
DTSTART:20260216T130000Z
DTEND:20260216T134500Z
SUMMARY:Цифровые ресурсы в научном исследовании
LOCATION:16 к. 201
END:VEVENT
BEGIN:VEVENT
UID:979c@192.168.245.71:3006
SEQUENCE:0
DTSTAMP:20260423T072455Z
DTSTART:20260217T130000Z
DTEND:20260217T144000Z
SUMMARY:Интегрированные маркетинговые коммуникации
LOCATION:16 к. 213
END:VEVENT
BEGIN:VEVENT
UID:rqvh@192.168.245.71:3006
SEQUENCE:0
DTSTAMP:20260423T072455Z
DTSTART:20260217T150000Z
DTEND:20260217T164000Z
SUMMARY:Стратегические коммуникации
LOCATION:16 к. 213
END:VEVENT
BEGIN:VEVENT
UID:qqs8@192.168.245.71:3006
SEQUENCE:0
DTSTAMP:20260423T072455Z
DTSTART:20260219T110000Z
DTEND:20260219T124000Z
SUMMARY:Современные тренды высокотехнологического рынка
LOCATION:16 к. 213
END:VEVENT
BEGIN:VEVENT
UID:r5dv@192.168.245.71:3006
SEQUENCE:0
DTSTAMP:20260423T072455Z
DTSTART:20260219T130000Z
DTEND:20260219T144000Z
SUMMARY:Интегрированные маркетинговые коммуникации
LOCATION:16 к. 213
END:VEVENT
BEGIN:VEVENT
UID:sp6z@192.168.245.71:3006
SEQUENCE:0
DTSTAMP:20260423T072455Z
DTSTART:20260219T150000Z
DTEND:20260219T164000Z
SUMMARY:Стратегические коммуникации
LOCATION:16 к. 213
END:VEVENT
BEGIN:VEVENT
UID:n33h@192.168.245.71:3006
SEQUENCE:0
DTSTAMP:20260423T072455Z
DTSTART:20260220T130000Z
DTEND:20260220T154000Z
SUMMARY:Иностранный язык в профессиональной коммуникации\, Английский
LOCATION:16 к. 503
END:VEVENT
BEGIN:VEVENT
UID:2n9r@192.168.245.71:3006
SEQUENCE:0
DTSTAMP:20260423T072455Z
DTSTART:20260220T150000Z
DTEND:20260220T154500Z
SUMMARY:Методы научных исследований
LOCATION:16 к. 521
END:VEVENT
BEGIN:VEVENT
UID:9u7n@192.168.245.71:3006
SEQUENCE:0
DTSTAMP:20260423T072455Z
DTSTART:20260220T150000Z
DTEND:20260220T154500Z
SUMMARY:Проектная практика
LOCATION:16 к. 521
END:VEVENT
END:VCALENDAR