BEGIN:VCALENDAR
VERSION:2.0
PRODID:-//spbstu.ru//ical//RU
NAME:Расписание группы 3844203/50301
X-WR-CALNAME:Расписание группы 3844203/50301
TIMEZONE-ID:Europe/Moscow
X-WR-TIMEZONE:Europe/Moscow
BEGIN:VEVENT
UID:0bsn@192.168.245.71:3006
SEQUENCE:0
DTSTAMP:20260425T120900Z
DTSTART:20251111T090000Z
DTEND:20251111T104000Z
SUMMARY:Иностранный язык в профессиональной коммуникации\, Английский
LOCATION:16 к. 210
END:VEVENT
BEGIN:VEVENT
UID:7e1w@192.168.245.71:3006
SEQUENCE:0
DTSTAMP:20260425T120900Z
DTSTART:20251111T130000Z
DTEND:20251111T144000Z
SUMMARY:Управление инновационным проектом
LOCATION:16 к. 209
END:VEVENT
BEGIN:VEVENT
UID:0ppg@192.168.245.71:3006
SEQUENCE:0
DTSTAMP:20260425T120900Z
DTSTART:20251113T130000Z
DTEND:20251113T144000Z
SUMMARY:Дизайн-мышление и экспертиза издательском деле
LOCATION:16 к. 201
END:VEVENT
BEGIN:VEVENT
UID:8z91@192.168.245.71:3006
SEQUENCE:0
DTSTAMP:20260425T120900Z
DTSTART:20251113T150000Z
DTEND:20251113T164000Z
SUMMARY:Дизайн-мышление и экспертиза издательском деле
LOCATION:16 к. 201
END:VEVENT
END:VCALENDAR