BEGIN:VCALENDAR
VERSION:2.0
PRODID:-//spbstu.ru//ical//RU
NAME:Расписание группы 3844504/50201
X-WR-CALNAME:Расписание группы 3844504/50201
TIMEZONE-ID:Europe/Moscow
X-WR-TIMEZONE:Europe/Moscow
BEGIN:VEVENT
UID:r1sf@192.168.245.71:3006
SEQUENCE:0
DTSTAMP:20260424T184158Z
DTSTART:20251006T110000Z
DTEND:20251006T124000Z
SUMMARY:Формальные модели в лингвистике
LOCATION:9 к. 323
END:VEVENT
BEGIN:VEVENT
UID:ys2p@192.168.245.71:3006
SEQUENCE:0
DTSTAMP:20260424T184158Z
DTSTART:20251006T130000Z
DTEND:20251006T144000Z
SUMMARY:Компьютерная лингвистика
LOCATION:6 к. 11
END:VEVENT
BEGIN:VEVENT
UID:nv3z@192.168.245.71:3006
SEQUENCE:0
DTSTAMP:20260424T184158Z
DTSTART:20251007T110000Z
DTEND:20251007T124000Z
SUMMARY:Языки программирования: адаптационный курс
LOCATION:3 к. 406
END:VEVENT
BEGIN:VEVENT
UID:7pcc@192.168.245.71:3006
SEQUENCE:0
DTSTAMP:20260424T184158Z
DTSTART:20251007T130000Z
DTEND:20251007T144000Z
SUMMARY:Языки программирования: адаптационный курс
LOCATION:3 к. 406
END:VEVENT
BEGIN:VEVENT
UID:es26@192.168.245.71:3006
SEQUENCE:0
DTSTAMP:20260424T184158Z
DTSTART:20251008T090000Z
DTEND:20251008T104000Z
SUMMARY:Формальные модели в лингвистике
LOCATION:9 к. 333
END:VEVENT
BEGIN:VEVENT
UID:tcsg@192.168.245.71:3006
SEQUENCE:0
DTSTAMP:20260424T184158Z
DTSTART:20251008T110000Z
DTEND:20251008T124000Z
SUMMARY:Компьютерная лингвистика
LOCATION:6 к. 18
END:VEVENT
BEGIN:VEVENT
UID:6kab@192.168.245.71:3006
SEQUENCE:0
DTSTAMP:20260424T184158Z
DTSTART:20251008T130000Z
DTEND:20251008T144000Z
SUMMARY:Компьютерная лингвистика
LOCATION:6 к. 17
END:VEVENT
BEGIN:VEVENT
UID:m4q7@192.168.245.71:3006
SEQUENCE:0
DTSTAMP:20260424T184158Z
DTSTART:20251009T070000Z
DTEND:20251009T084000Z
SUMMARY:Иностранный язык в профессиональной коммуникации\, Английский
LOCATION:6 к. 18
END:VEVENT
BEGIN:VEVENT
UID:b0u2@192.168.245.71:3006
SEQUENCE:0
DTSTAMP:20260424T184158Z
DTSTART:20251009T090000Z
DTEND:20251009T104000Z
SUMMARY:Структурная лингвистика
LOCATION:9 к. 212
END:VEVENT
BEGIN:VEVENT
UID:bv8b@192.168.245.71:3006
SEQUENCE:0
DTSTAMP:20260424T184158Z
DTSTART:20251010T070000Z
DTEND:20251010T084000Z
SUMMARY:Компьютерная лингвистика
LOCATION:6 к. 11
END:VEVENT
BEGIN:VEVENT
UID:sngs@192.168.245.71:3006
SEQUENCE:0
DTSTAMP:20260424T184158Z
DTSTART:20251010T090000Z
DTEND:20251010T104000Z
SUMMARY:Структурная лингвистика
LOCATION:9 к. 129
END:VEVENT
BEGIN:VEVENT
UID:9jr5@192.168.245.71:3006
SEQUENCE:0
DTSTAMP:20260424T184158Z
DTSTART:20251010T110000Z
DTEND:20251010T124000Z
SUMMARY:Язык Python
LOCATION:3 к. 406
END:VEVENT
BEGIN:VEVENT
UID:qklm@192.168.245.71:3006
SEQUENCE:0
DTSTAMP:20260424T184158Z
DTSTART:20251010T130000Z
DTEND:20251010T144000Z
SUMMARY:Язык Python
LOCATION:3 к. 406
END:VEVENT
BEGIN:VEVENT
UID:mbqy@192.168.245.71:3006
SEQUENCE:0
DTSTAMP:20260424T184158Z
DTSTART:20251011T090000Z
DTEND:20251011T104000Z
SUMMARY:Управление научным проектом
LOCATION:9 к. 117
END:VEVENT
END:VCALENDAR