BEGIN:VCALENDAR
VERSION:2.0
PRODID:-//spbstu.ru//ical//RU
NAME:Расписание группы 3844504/50201
X-WR-CALNAME:Расписание группы 3844504/50201
TIMEZONE-ID:Europe/Moscow
X-WR-TIMEZONE:Europe/Moscow
BEGIN:VEVENT
UID:nrgw@192.168.245.71:3006
SEQUENCE:0
DTSTAMP:20260422T192454Z
DTSTART:20260113T090000Z
DTEND:20260113T100000Z
SUMMARY:Язык Python
LOCATION:3 к. 406
END:VEVENT
BEGIN:VEVENT
UID:vt7d@192.168.245.71:3006
SEQUENCE:0
DTSTAMP:20260422T192454Z
DTSTART:20260114T090000Z
DTEND:20260114T113000Z
SUMMARY:Язык Python
LOCATION:3 к. 406
END:VEVENT
END:VCALENDAR