BEGIN:VCALENDAR
VERSION:2.0
PRODID:-//spbstu.ru//ical//RU
NAME:Расписание группы 3844504/50201
X-WR-CALNAME:Расписание группы 3844504/50201
TIMEZONE-ID:Europe/Moscow
X-WR-TIMEZONE:Europe/Moscow
BEGIN:VEVENT
UID:0oq3@192.168.245.71:3006
SEQUENCE:0
DTSTAMP:20260422T094412Z
DTSTART:20260203T090000Z
DTEND:20260203T104000Z
SUMMARY:Алгоритмы и структуры данных
LOCATION:3 к. 406
END:VEVENT
BEGIN:VEVENT
UID:l05q@192.168.245.71:3006
SEQUENCE:0
DTSTAMP:20260422T094412Z
DTSTART:20260203T110000Z
DTEND:20260203T124000Z
SUMMARY:Алгоритмы и структуры данных
LOCATION:3 к. 406
END:VEVENT
BEGIN:VEVENT
UID:e5a9@192.168.245.71:3006
SEQUENCE:0
DTSTAMP:20260422T094412Z
DTSTART:20260204T090000Z
DTEND:20260204T104000Z
SUMMARY:Компьютерная лингвистика
LOCATION:9 к. 117
END:VEVENT
BEGIN:VEVENT
UID:poi9@192.168.245.71:3006
SEQUENCE:0
DTSTAMP:20260422T094412Z
DTSTART:20260204T110000Z
DTEND:20260204T124000Z
SUMMARY:Профессионально-ориентированный английский язык
LOCATION:9 к. 514
END:VEVENT
BEGIN:VEVENT
UID:4hkh@192.168.245.71:3006
SEQUENCE:0
DTSTAMP:20260422T094412Z
DTSTART:20260204T130000Z
DTEND:20260204T144000Z
SUMMARY:Дополнительные главы по высшей математике и статистике
LOCATION:9 к. 129
END:VEVENT
END:VCALENDAR