BEGIN:VCALENDAR
VERSION:2.0
PRODID:-//spbstu.ru//ical//RU
NAME:Расписание группы 3844504/50201
X-WR-CALNAME:Расписание группы 3844504/50201
TIMEZONE-ID:Europe/Moscow
X-WR-TIMEZONE:Europe/Moscow
BEGIN:VEVENT
UID:f4rk@192.168.245.71:3006
SEQUENCE:0
DTSTAMP:20260421T221825Z
DTSTART:20260310T090000Z
DTEND:20260310T104000Z
SUMMARY:Технологии автоматизированной обработки данных
LOCATION:3 к. 406
END:VEVENT
BEGIN:VEVENT
UID:w4nt@192.168.245.71:3006
SEQUENCE:0
DTSTAMP:20260421T221825Z
DTSTART:20260310T110000Z
DTEND:20260310T124000Z
SUMMARY:Большие данные в гуманитарных науках
LOCATION:9 к. 210
END:VEVENT
BEGIN:VEVENT
UID:8u6b@192.168.245.71:3006
SEQUENCE:0
DTSTAMP:20260421T221825Z
DTSTART:20260310T130000Z
DTEND:20260310T144000Z
SUMMARY:Большие данные в гуманитарных науках
LOCATION:9 к. 210
END:VEVENT
BEGIN:VEVENT
UID:8ukm@192.168.245.71:3006
SEQUENCE:0
DTSTAMP:20260421T221825Z
DTSTART:20260311T070000Z
DTEND:20260311T084000Z
SUMMARY:Дополнительные главы по высшей математике и статистике
LOCATION:9 к. 221
END:VEVENT
BEGIN:VEVENT
UID:n3wg@192.168.245.71:3006
SEQUENCE:0
DTSTAMP:20260421T221825Z
DTSTART:20260311T090000Z
DTEND:20260311T104000Z
SUMMARY:Компьютерная лингвистика
LOCATION:9 к. 117
END:VEVENT
BEGIN:VEVENT
UID:cnlo@192.168.245.71:3006
SEQUENCE:0
DTSTAMP:20260421T221825Z
DTSTART:20260311T110000Z
DTEND:20260311T124000Z
SUMMARY:Профессионально-ориентированный английский язык
LOCATION:9 к. 514
END:VEVENT
BEGIN:VEVENT
UID:q0v8@192.168.245.71:3006
SEQUENCE:0
DTSTAMP:20260421T221825Z
DTSTART:20260311T130000Z
DTEND:20260311T144000Z
SUMMARY:Технологии автоматизированной обработки данных
LOCATION:9 к. 210
END:VEVENT
BEGIN:VEVENT
UID:dlx0@192.168.245.71:3006
SEQUENCE:0
DTSTAMP:20260421T221825Z
DTSTART:20260311T150000Z
DTEND:20260311T164000Z
SUMMARY:Технологии автоматизированной обработки данных
LOCATION:9 к. 210
END:VEVENT
BEGIN:VEVENT
UID:s7np@192.168.245.71:3006
SEQUENCE:0
DTSTAMP:20260421T221825Z
DTSTART:20260314T090000Z
DTEND:20260314T104000Z
SUMMARY:Компьютерная лингвистика
LOCATION:9 к. 210
END:VEVENT
BEGIN:VEVENT
UID:7wnb@192.168.245.71:3006
SEQUENCE:0
DTSTAMP:20260421T221825Z
DTSTART:20260314T110000Z
DTEND:20260314T124000Z
SUMMARY:Проектная деятельность
LOCATION:9 к. 210
END:VEVENT
END:VCALENDAR