BEGIN:VCALENDAR
VERSION:2.0
PRODID:-//spbstu.ru//ical//RU
NAME:Расписание группы 3844504/50201
X-WR-CALNAME:Расписание группы 3844504/50201
TIMEZONE-ID:Europe/Moscow
X-WR-TIMEZONE:Europe/Moscow
BEGIN:VEVENT
UID:hhc7@192.168.245.71:3006
SEQUENCE:0
DTSTAMP:20260421T115145Z
DTSTART:20260414T090000Z
DTEND:20260414T104000Z
SUMMARY:Алгоритмы и структуры данных
LOCATION:3 к. 406
END:VEVENT
BEGIN:VEVENT
UID:fyra@192.168.245.71:3006
SEQUENCE:0
DTSTAMP:20260421T115145Z
DTSTART:20260414T110000Z
DTEND:20260414T124000Z
SUMMARY:Алгоритмы и структуры данных
LOCATION:3 к. 406
END:VEVENT
BEGIN:VEVENT
UID:vdx7@192.168.245.71:3006
SEQUENCE:0
DTSTAMP:20260421T115145Z
DTSTART:20260415T090000Z
DTEND:20260415T104000Z
SUMMARY:Компьютерная лингвистика
LOCATION:9 к. 117
END:VEVENT
BEGIN:VEVENT
UID:a5lw@192.168.245.71:3006
SEQUENCE:0
DTSTAMP:20260421T115145Z
DTSTART:20260415T110000Z
DTEND:20260415T124000Z
SUMMARY:Профессионально-ориентированный английский язык
LOCATION:9 к. 514
END:VEVENT
BEGIN:VEVENT
UID:4zh2@192.168.245.71:3006
SEQUENCE:0
DTSTAMP:20260421T115145Z
DTSTART:20260415T130000Z
DTEND:20260415T144000Z
SUMMARY:Дополнительные главы по высшей математике и статистике
LOCATION:9 к. 129
END:VEVENT
BEGIN:VEVENT
UID:el1v@192.168.245.71:3006
SEQUENCE:0
DTSTAMP:20260421T115145Z
DTSTART:20260418T090000Z
DTEND:20260418T104000Z
SUMMARY:Компьютерная лингвистика
LOCATION:9 к. 210
END:VEVENT
BEGIN:VEVENT
UID:t87p@192.168.245.71:3006
SEQUENCE:0
DTSTAMP:20260421T115145Z
DTSTART:20260418T110000Z
DTEND:20260418T124000Z
SUMMARY:Проектная деятельность
LOCATION:9 к. 212
END:VEVENT
BEGIN:VEVENT
UID:rt5x@192.168.245.71:3006
SEQUENCE:0
DTSTAMP:20260421T115145Z
DTSTART:20260418T130000Z
DTEND:20260418T144000Z
SUMMARY:Проектная деятельность
LOCATION:9 к. 210
END:VEVENT
END:VCALENDAR