BEGIN:VCALENDAR
VERSION:2.0
PRODID:-//spbstu.ru//ical//RU
NAME:Расписание группы 3834101/40004
X-WR-CALNAME:Расписание группы 3834101/40004
TIMEZONE-ID:Europe/Moscow
X-WR-TIMEZONE:Europe/Moscow
BEGIN:VEVENT
UID:cmot@192.168.245.71:3006
SEQUENCE:0
DTSTAMP:20260424T235133Z
DTSTART:20251117T070000Z
DTEND:20251117T084000Z
SUMMARY:Язык региона: базовый курс (китайский)
LOCATION:16 к. 501
END:VEVENT
BEGIN:VEVENT
UID:wwkk@192.168.245.71:3006
SEQUENCE:0
DTSTAMP:20260424T235133Z
DTSTART:20251117T090000Z
DTEND:20251117T104000Z
SUMMARY:Язык региона: базовый курс (китайский)
LOCATION:16 к. 501
END:VEVENT
BEGIN:VEVENT
UID:xbc5@192.168.245.71:3006
SEQUENCE:0
DTSTAMP:20260424T235133Z
DTSTART:20251117T110000Z
DTEND:20251117T124000Z
SUMMARY:Письменная деловая коммуникация (на иностранном языке)
LOCATION:16 к. 514
END:VEVENT
BEGIN:VEVENT
UID:3276@192.168.245.71:3006
SEQUENCE:0
DTSTAMP:20260424T235133Z
DTSTART:20251117T130000Z
DTEND:20251117T144000Z
SUMMARY:Письменная деловая коммуникация (на иностранном языке)
LOCATION:16 к. 514
END:VEVENT
BEGIN:VEVENT
UID:v4ft@192.168.245.71:3006
SEQUENCE:0
DTSTAMP:20260424T235133Z
DTSTART:20251118T070000Z
DTEND:20251118T084000Z
SUMMARY:Язык региона: базовый курс (китайский)
LOCATION:16 к. 111
END:VEVENT
BEGIN:VEVENT
UID:mip0@192.168.245.71:3006
SEQUENCE:0
DTSTAMP:20260424T235133Z
DTSTART:20251118T090000Z
DTEND:20251118T104000Z
SUMMARY:Элективная физическая культура и спорт
LOCATION:СК Секции
END:VEVENT
BEGIN:VEVENT
UID:mhup@192.168.245.71:3006
SEQUENCE:0
DTSTAMP:20260424T235133Z
DTSTART:20251118T110000Z
DTEND:20251118T124000Z
SUMMARY:История и теория международных отношений
LOCATION:16 к. 513
END:VEVENT
BEGIN:VEVENT
UID:kh78@192.168.245.71:3006
SEQUENCE:0
DTSTAMP:20260424T235133Z
DTSTART:20251118T130000Z
DTEND:20251118T144000Z
SUMMARY:Язык региона: базовый курс (китайский)
LOCATION:16 к. 111
END:VEVENT
BEGIN:VEVENT
UID:6428@192.168.245.71:3006
SEQUENCE:0
DTSTAMP:20260424T235133Z
DTSTART:20251119T070000Z
DTEND:20251119T084000Z
SUMMARY:Язык региона: базовый курс (китайский)
LOCATION:16 к. 503
END:VEVENT
BEGIN:VEVENT
UID:wrx9@192.168.245.71:3006
SEQUENCE:0
DTSTAMP:20260424T235133Z
DTSTART:20251119T090000Z
DTEND:20251119T104000Z
SUMMARY:Язык региона: базовый курс (китайский)
LOCATION:16 к. 503
END:VEVENT
BEGIN:VEVENT
UID:cnbh@192.168.245.71:3006
SEQUENCE:0
DTSTAMP:20260424T235133Z
DTSTART:20251119T110000Z
DTEND:20251119T124000Z
SUMMARY:Язык региона: базовый курс (китайский)
LOCATION:16 к. 109
END:VEVENT
BEGIN:VEVENT
UID:w6x2@192.168.245.71:3006
SEQUENCE:0
DTSTAMP:20260424T235133Z
DTSTART:20251120T070000Z
DTEND:20251120T084000Z
SUMMARY:Язык региона: базовый курс (китайский)
LOCATION:16 к. 111
END:VEVENT
BEGIN:VEVENT
UID:ah5a@192.168.245.71:3006
SEQUENCE:0
DTSTAMP:20260424T235133Z
DTSTART:20251120T090000Z
DTEND:20251120T104000Z
SUMMARY:Язык региона: базовый курс (китайский)
LOCATION:16 к. 111
END:VEVENT
BEGIN:VEVENT
UID:p5xm@192.168.245.71:3006
SEQUENCE:0
DTSTAMP:20260424T235133Z
DTSTART:20251120T110000Z
DTEND:20251120T124000Z
SUMMARY:Политология
LOCATION:16 к. 400
END:VEVENT
BEGIN:VEVENT
UID:a3pn@192.168.245.71:3006
SEQUENCE:0
DTSTAMP:20260424T235133Z
DTSTART:20251120T130000Z
DTEND:20251120T144000Z
SUMMARY:Политология
LOCATION:16 к. 513
END:VEVENT
BEGIN:VEVENT
UID:bmv5@192.168.245.71:3006
SEQUENCE:0
DTSTAMP:20260424T235133Z
DTSTART:20251121T090000Z
DTEND:20251121T104000Z
SUMMARY:Элективная физическая культура и спорт
LOCATION:СК Секции
END:VEVENT
BEGIN:VEVENT
UID:ugs4@192.168.245.71:3006
SEQUENCE:0
DTSTAMP:20260424T235133Z
DTSTART:20251121T110000Z
DTEND:20251121T124000Z
SUMMARY:Прикладные исследования и работа с информационными ресурсами в ком
 плексном регионоведении
LOCATION:16 к. 200
END:VEVENT
BEGIN:VEVENT
UID:xtz6@192.168.245.71:3006
SEQUENCE:0
DTSTAMP:20260424T235133Z
DTSTART:20251121T130000Z
DTEND:20251121T144000Z
SUMMARY:Безопасность жизнедеятельности
LOCATION:16 к. 114
END:VEVENT
BEGIN:VEVENT
UID:zw57@192.168.245.71:3006
SEQUENCE:0
DTSTAMP:20260424T235133Z
DTSTART:20251121T150000Z
DTEND:20251121T164000Z
SUMMARY:Прикладные исследования и работа с информационными ресурсами в ком
 плексном регионоведении
LOCATION:16 к. 121
END:VEVENT
BEGIN:VEVENT
UID:w381@192.168.245.71:3006
SEQUENCE:0
DTSTAMP:20260424T235133Z
DTSTART:20251122T090000Z
DTEND:20251122T104000Z
SUMMARY:Иностранный язык: Базовый курс
LOCATION:16 к. 503
END:VEVENT
BEGIN:VEVENT
UID:bwyi@192.168.245.71:3006
SEQUENCE:0
DTSTAMP:20260424T235133Z
DTSTART:20251122T110000Z
DTEND:20251122T124000Z
SUMMARY:История Китая и государств АТР
LOCATION:16 к. 511
END:VEVENT
BEGIN:VEVENT
UID:7svz@192.168.245.71:3006
SEQUENCE:0
DTSTAMP:20260424T235133Z
DTSTART:20251122T130000Z
DTEND:20251122T144000Z
SUMMARY:История Китая и государств АТР
LOCATION:16 к. 511
END:VEVENT
END:VCALENDAR