BEGIN:VCALENDAR
VERSION:2.0
PRODID:-//spbstu.ru//ical//RU
NAME:Расписание группы 3834101/40004
X-WR-CALNAME:Расписание группы 3834101/40004
TIMEZONE-ID:Europe/Moscow
X-WR-TIMEZONE:Europe/Moscow
BEGIN:VEVENT
UID:w8vf@192.168.245.71:3006
SEQUENCE:0
DTSTAMP:20260422T060232Z
DTSTART:20260323T070000Z
DTEND:20260323T084000Z
SUMMARY:Язык региона: профессионально-ориентированный курс (китайский)
LOCATION:16 к. 111
END:VEVENT
BEGIN:VEVENT
UID:s88h@192.168.245.71:3006
SEQUENCE:0
DTSTAMP:20260422T060232Z
DTSTART:20260323T090000Z
DTEND:20260323T104000Z
SUMMARY:Язык региона: профессионально-ориентированный курс (китайский)
LOCATION:16 к. 111
END:VEVENT
BEGIN:VEVENT
UID:g71x@192.168.245.71:3006
SEQUENCE:0
DTSTAMP:20260422T060232Z
DTSTART:20260323T110000Z
DTEND:20260323T124000Z
SUMMARY:Язык региона: профессионально-ориентированный курс (китайский)
LOCATION:16 к. 111
END:VEVENT
BEGIN:VEVENT
UID:s5u1@192.168.245.71:3006
SEQUENCE:0
DTSTAMP:20260422T060232Z
DTSTART:20260323T130000Z
DTEND:20260323T144000Z
SUMMARY:Язык региона: профессионально-ориентированный курс (китайский)
LOCATION:16 к. 111
END:VEVENT
BEGIN:VEVENT
UID:l5wf@192.168.245.71:3006
SEQUENCE:0
DTSTAMP:20260422T060232Z
DTSTART:20260324T090000Z
DTEND:20260324T104000Z
SUMMARY:Элективная физическая культура и спорт
LOCATION:СК Секции
END:VEVENT
BEGIN:VEVENT
UID:gq8m@192.168.245.71:3006
SEQUENCE:0
DTSTAMP:20260422T060232Z
DTSTART:20260325T090000Z
DTEND:20260325T104000Z
SUMMARY:История и теория международных отношений
LOCATION:16 к. 400
END:VEVENT
BEGIN:VEVENT
UID:6pyg@192.168.245.71:3006
SEQUENCE:0
DTSTAMP:20260422T060232Z
DTSTART:20260326T070000Z
DTEND:20260326T084000Z
SUMMARY:Язык региона: профессионально-ориентированный курс (китайский)
LOCATION:16 к. 111
END:VEVENT
BEGIN:VEVENT
UID:jf28@192.168.245.71:3006
SEQUENCE:0
DTSTAMP:20260422T060232Z
DTSTART:20260326T090000Z
DTEND:20260326T104000Z
SUMMARY:Язык региона: профессионально-ориентированный курс (китайский)
LOCATION:16 к. 111
END:VEVENT
BEGIN:VEVENT
UID:h3ws@192.168.245.71:3006
SEQUENCE:0
DTSTAMP:20260422T060232Z
DTSTART:20260326T130000Z
DTEND:20260326T144000Z
SUMMARY:Основы проектной деятельности
LOCATION:16 к. 400
END:VEVENT
BEGIN:VEVENT
UID:4ale@192.168.245.71:3006
SEQUENCE:0
DTSTAMP:20260422T060232Z
DTSTART:20260327T070000Z
DTEND:20260327T084000Z
SUMMARY:История Китая и государств АТР
LOCATION:16 к. 514
END:VEVENT
BEGIN:VEVENT
UID:p5ck@192.168.245.71:3006
SEQUENCE:0
DTSTAMP:20260422T060232Z
DTSTART:20260327T090000Z
DTEND:20260327T104000Z
SUMMARY:Элективная физическая культура и спорт
LOCATION:СК Секции
END:VEVENT
BEGIN:VEVENT
UID:v8zz@192.168.245.71:3006
SEQUENCE:0
DTSTAMP:20260422T060232Z
DTSTART:20260327T110000Z
DTEND:20260327T124000Z
SUMMARY:Английский язык: Профессионально-ориентированный курс
LOCATION:16 к. 509
END:VEVENT
BEGIN:VEVENT
UID:xc86@192.168.245.71:3006
SEQUENCE:0
DTSTAMP:20260422T060232Z
DTSTART:20260327T130000Z
DTEND:20260327T144000Z
SUMMARY:Английский язык: Профессионально-ориентированный курс
LOCATION:16 к. 509
END:VEVENT
BEGIN:VEVENT
UID:male@192.168.245.71:3006
SEQUENCE:0
DTSTAMP:20260422T060232Z
DTSTART:20260328T070000Z
DTEND:20260328T084000Z
SUMMARY:История Китая и государств АТР
LOCATION:16 к. 114
END:VEVENT
BEGIN:VEVENT
UID:bo9j@192.168.245.71:3006
SEQUENCE:0
DTSTAMP:20260422T060232Z
DTSTART:20260328T090000Z
DTEND:20260328T104000Z
SUMMARY:Политическая и экономическая география Китая и государств АТР
LOCATION:16 к. 121
END:VEVENT
BEGIN:VEVENT
UID:gi1w@192.168.245.71:3006
SEQUENCE:0
DTSTAMP:20260422T060232Z
DTSTART:20260328T110000Z
DTEND:20260328T124000Z
SUMMARY:Политическая и экономическая география Китая и государств АТР
LOCATION:16 к. 121
END:VEVENT
END:VCALENDAR