BEGIN:VCALENDAR
VERSION:2.0
PRODID:-//spbstu.ru//ical//RU
NAME:Расписание группы 3834201/40002
X-WR-CALNAME:Расписание группы 3834201/40002
TIMEZONE-ID:Europe/Moscow
X-WR-TIMEZONE:Europe/Moscow
BEGIN:VEVENT
UID:unly@192.168.245.71:3006
SEQUENCE:0
DTSTAMP:20260425T135059Z
DTSTART:20251110T070000Z
DTEND:20251110T084000Z
SUMMARY:Письменная деловая коммуникация (на иностранном языке)
LOCATION:16 к. 211
END:VEVENT
BEGIN:VEVENT
UID:kxsk@192.168.245.71:3006
SEQUENCE:0
DTSTAMP:20260425T135059Z
DTSTART:20251110T090000Z
DTEND:20251110T104000Z
SUMMARY:Письменная деловая коммуникация (на иностранном языке)
LOCATION:16 к. 211
END:VEVENT
BEGIN:VEVENT
UID:5zf7@192.168.245.71:3006
SEQUENCE:0
DTSTAMP:20260425T135059Z
DTSTART:20251111T050000Z
DTEND:20251111T064000Z
SUMMARY:Маркетинг территорий
LOCATION:16 к. 215
END:VEVENT
BEGIN:VEVENT
UID:e1yh@192.168.245.71:3006
SEQUENCE:0
DTSTAMP:20260425T135059Z
DTSTART:20251111T070000Z
DTEND:20251111T084000Z
SUMMARY:Маркетинг территорий
LOCATION:16 к. 400
END:VEVENT
BEGIN:VEVENT
UID:r5zc@192.168.245.71:3006
SEQUENCE:0
DTSTAMP:20260425T135059Z
DTSTART:20251111T090000Z
DTEND:20251111T104000Z
SUMMARY:Элективная физическая культура и спорт
LOCATION:СК Секции
END:VEVENT
BEGIN:VEVENT
UID:2ahj@192.168.245.71:3006
SEQUENCE:0
DTSTAMP:20260425T135059Z
DTSTART:20251112T090000Z
DTEND:20251112T104000Z
SUMMARY:Технологии рекламы и PR
LOCATION:16 к. 200
END:VEVENT
BEGIN:VEVENT
UID:6nd4@192.168.245.71:3006
SEQUENCE:0
DTSTAMP:20260425T135059Z
DTSTART:20251112T110000Z
DTEND:20251112T124000Z
SUMMARY:Визуальные коммуникации
LOCATION:16 к. 210
END:VEVENT
BEGIN:VEVENT
UID:wgk6@192.168.245.71:3006
SEQUENCE:0
DTSTAMP:20260425T135059Z
DTSTART:20251113T070000Z
DTEND:20251113T084000Z
SUMMARY:Технологии рекламы и PR
LOCATION:16 к. 510
END:VEVENT
BEGIN:VEVENT
UID:1565@192.168.245.71:3006
SEQUENCE:0
DTSTAMP:20260425T135059Z
DTSTART:20251113T110000Z
DTEND:20251113T124000Z
SUMMARY:Медиапроизводство
LOCATION:16 к. 203
END:VEVENT
BEGIN:VEVENT
UID:hf2k@192.168.245.71:3006
SEQUENCE:0
DTSTAMP:20260425T135059Z
DTSTART:20251113T130000Z
DTEND:20251113T144000Z
SUMMARY:Иностранный язык: Базовый курс
LOCATION:16 к. 215
END:VEVENT
BEGIN:VEVENT
UID:8fs2@192.168.245.71:3006
SEQUENCE:0
DTSTAMP:20260425T135059Z
DTSTART:20251114T050000Z
DTEND:20251114T064000Z
SUMMARY:Иностранный язык: Русский язык как иностранный
LOCATION:16 к. 214
END:VEVENT
BEGIN:VEVENT
UID:5by9@192.168.245.71:3006
SEQUENCE:0
DTSTAMP:20260425T135059Z
DTSTART:20251114T070000Z
DTEND:20251114T084000Z
SUMMARY:Цифровая аналитика
LOCATION:16 к. 215
END:VEVENT
BEGIN:VEVENT
UID:bv93@192.168.245.71:3006
SEQUENCE:0
DTSTAMP:20260425T135059Z
DTSTART:20251114T090000Z
DTEND:20251114T104000Z
SUMMARY:Элективная физическая культура и спорт
LOCATION:СК Секции
END:VEVENT
END:VCALENDAR