BEGIN:VCALENDAR
VERSION:2.0
PRODID:-//spbstu.ru//ical//RU
NAME:Расписание группы 3834201/40002
X-WR-CALNAME:Расписание группы 3834201/40002
TIMEZONE-ID:Europe/Moscow
X-WR-TIMEZONE:Europe/Moscow
BEGIN:VEVENT
UID:heha@192.168.245.71:3006
SEQUENCE:0
DTSTAMP:20260422T113850Z
DTSTART:20260209T070000Z
DTEND:20260209T084000Z
SUMMARY:Иностранный язык. Профессионально-ориентированный курс
LOCATION:16 к. 203
END:VEVENT
BEGIN:VEVENT
UID:ziga@192.168.245.71:3006
SEQUENCE:0
DTSTAMP:20260422T113850Z
DTSTART:20260209T090000Z
DTEND:20260209T104000Z
SUMMARY:Маркетинговые исследования и ситуационный анализ
LOCATION:16 к. 503
END:VEVENT
BEGIN:VEVENT
UID:jesl@192.168.245.71:3006
SEQUENCE:0
DTSTAMP:20260422T113850Z
DTSTART:20260209T110000Z
DTEND:20260209T124000Z
SUMMARY:Коммуникационный менеджмент
LOCATION:16 к. 200
END:VEVENT
BEGIN:VEVENT
UID:slxu@192.168.245.71:3006
SEQUENCE:0
DTSTAMP:20260422T113850Z
DTSTART:20260210T090000Z
DTEND:20260210T104000Z
SUMMARY:Элективная физическая культура и спорт
LOCATION:СК Секции
END:VEVENT
BEGIN:VEVENT
UID:kpq1@192.168.245.71:3006
SEQUENCE:0
DTSTAMP:20260422T113850Z
DTSTART:20260210T110000Z
DTEND:20260210T124000Z
SUMMARY:Теория и практика массовой информации
LOCATION:16 к. 200
END:VEVENT
BEGIN:VEVENT
UID:e1qz@192.168.245.71:3006
SEQUENCE:0
DTSTAMP:20260422T113850Z
DTSTART:20260211T070000Z
DTEND:20260211T084000Z
SUMMARY:Русский язык как иностранный: Профессионально-ориентированный курс
LOCATION:16 к. 214
END:VEVENT
BEGIN:VEVENT
UID:suxq@192.168.245.71:3006
SEQUENCE:0
DTSTAMP:20260422T113850Z
DTSTART:20260211T110000Z
DTEND:20260211T124000Z
SUMMARY:Искусство и массовая культура
LOCATION:16 к. 209
END:VEVENT
BEGIN:VEVENT
UID:ecqe@192.168.245.71:3006
SEQUENCE:0
DTSTAMP:20260422T113850Z
DTSTART:20260211T130000Z
DTEND:20260211T144000Z
SUMMARY:Коммуникационный менеджмент
LOCATION:16 к. 211
END:VEVENT
BEGIN:VEVENT
UID:w2g7@192.168.245.71:3006
SEQUENCE:0
DTSTAMP:20260422T113850Z
DTSTART:20260211T150000Z
DTEND:20260211T164000Z
SUMMARY:Теория и практика массовой информации
LOCATION:16 к. 213
END:VEVENT
BEGIN:VEVENT
UID:afvx@192.168.245.71:3006
SEQUENCE:0
DTSTAMP:20260422T113850Z
DTSTART:20260212T110000Z
DTEND:20260212T124000Z
SUMMARY:Искусство и массовая культура
LOCATION:16 к. 200
END:VEVENT
BEGIN:VEVENT
UID:upxo@192.168.245.71:3006
SEQUENCE:0
DTSTAMP:20260422T113850Z
DTSTART:20260212T130000Z
DTEND:20260212T144000Z
SUMMARY:Основы проектной деятельности
LOCATION:16 к. 200
END:VEVENT
BEGIN:VEVENT
UID:0xok@192.168.245.71:3006
SEQUENCE:0
DTSTAMP:20260422T113850Z
DTSTART:20260213T070000Z
DTEND:20260213T084000Z
SUMMARY:Маркетинговые исследования и ситуационный анализ
LOCATION:16 к. 200
END:VEVENT
BEGIN:VEVENT
UID:2p5k@192.168.245.71:3006
SEQUENCE:0
DTSTAMP:20260422T113850Z
DTSTART:20260213T090000Z
DTEND:20260213T104000Z
SUMMARY:Элективная физическая культура и спорт
LOCATION:СК Секции
END:VEVENT
BEGIN:VEVENT
UID:l8nq@192.168.245.71:3006
SEQUENCE:0
DTSTAMP:20260422T113850Z
DTSTART:20260213T110000Z
DTEND:20260213T124000Z
SUMMARY:Социология массовых коммуникаций
LOCATION:16 к. 521
END:VEVENT
END:VCALENDAR